{"text_format":"1","workbook":"xlsx","n_sheets":8,"sheets":["組合せ表","Ａグラウンド","Ｂグラウンド","星取表","Ｃグラウンド","Ｄグラウンド","Sheet2","Sheet3"],"not_rendered":{"charts":0,"images":1,"macros":1,"external_links":0,"defined_names":2,"comments":0,"pivot_tables":0},"unopened":[],"bounds":{"document_bytes":16777216,"sheet_cells":100000,"rows_first":2000,"rows_last":500,"rows_between":2000,"halvings":0,"cell_chars":16384,"cell_head_chars":4096},"cells_cut":0,"cells_raw":0,"read":"whole","date_system":"1900"}

{"sheet":"組合せ表","index":0,"n_rows":48,"n_cols":26,"rows_kept":48,"cut":false,"hidden":false,"merged":[[0,0,0,18],[1,0,1,18],[2,0,2,1],[2,3,2,7],[2,8,2,12],[2,13,2,17],[9,0,9,1],[9,13,9,17],[3,0,3,1],[3,13,3,17],[4,0,4,1],[4,13,4,17],[5,0,5,1],[5,13,5,17],[6,0,7,1],[6,13,6,17],[7,13,7,17],[8,0,8,1],[8,13,8,17],[10,0,10,1],[10,13,10,17],[11,0,11,1],[11,13,11,17],[12,0,12,1],[12,13,12,17],[20,0,20,1],[13,0,13,1],[13,13,13,17],[14,0,14,1],[14,13,14,17],[15,0,15,1],[15,13,15,17],[16,0,16,1],[16,13,16,17],[17,0,17,1],[18,0,18,1],[19,0,19,1],[31,13,31,17],[21,0,21,1],[22,0,22,1],[23,0,23,1],[24,0,24,1],[25,0,25,1],[26,0,26,1],[27,0,27,1],[28,0,28,1],[29,0,29,1],[30,0,30,1],[31,0,32,1],[33,0,33,1],[34,0,34,1],[35,0,35,1],[35,13,35,17],[36,0,36,1],[36,13,36,17],[43,0,43,1],[37,0,37,1],[37,13,37,17],[38,0,38,1],[39,0,39,1],[40,0,40,1],[41,0,42,1]]}
["公益財団法人全日本リトルリーグ野球協会リトルリーグ信越連盟",null,null,null,null,null,null,null,null,null,null,null,null,null,null,null,null,null,null,null,"自ﾘｰｸﾞ"]
["２０１６年度信越連盟春季大会中南信ブロック予選日程及び組み合わせ表",null,null,null,null,null,null,null,null,null,null,null,null,null,null,null,null,null,null,null,"空　白","←自リーグを選択すると組み合わせ表の自リーグに色が付きます"]
["会　　　場",null,"試　合","Ａ  グ ラ ウ ン ド",null,null,null,null,"Ｂ  グ ラ ウ ン ド",null,null,null,null,"Ｃ  グ ラ ウ ン ド",null,null,null,null,"備　　　考",null,null,"チーム名",null,null,null,"チームリスト"]
["第　一　週",null,"第１試合",{"$f":"IF(ISBLANK($V$4),\"\",$V$4)","v":"波　田"},9,"-",0,{"$f":"IF(ISBLANK($V$13),\"\",$V$13)","v":"塩　尻"},{"$f":"IF(ISBLANK($V$5),\"\",$V$5)","v":"豊　科"},2,"-",9,{"$f":"IF(ISBLANK($V$12),\"\",$V$12)","v":"安曇野　穂 　高"},"開会式８時",null,null,null,null,"選 手 宣 誓",null,"Ａ","波　田",1,{"$f":"IF(ISBLANK($V$4),\"\",$V$4)","v":"波　田"},{"$f":"IF(ISBLANK($V$4),\"\",$V$4)","v":"波　田"},"空　白"]
["4月１０日（日）",null,"第２試合",{"$f":"IF(ISBLANK($V$11),\"\",$V$11)","v":"飯　田"},6,"-",1,{"$f":"IF(ISBLANK($V$6),\"\",$V$6)","v":"大　　町白　　馬"},{"$f":"IF(ISBLANK($V$7),\"\",$V$7)","v":"松本南"},9,"-",4,{"$f":"IF(ISBLANK($V$10),\"\",$V$10)","v":"堀　金"},"（開門７時３０分）",null,null,null,null,"安曇野穂高",null,"Ｂ","豊　科",2,{"$f":"IF(ISBLANK($V$5),\"\",$V$5)","v":"豊　科"},{"$f":"IF(ISBLANK($V$5),\"\",$V$5)","v":"豊　科"},"大　　町白　　馬"]
["飯田会場",null,"第３試合",{"$f":"IF(ISBLANK($V$8),\"\",$V$8)","v":"三　郷"},5,"-",4,{"$f":"IF(ISBLANK($V$9),\"\",$V$9)","v":"松本北"},{"$f":"IF(ISBLANK($V$10),\"\",$V$10)","v":"堀　金"},4,"-",10,{"$f":"IF(ISBLANK($V$5),\"\",$V$5)","v":"豊　科"},"試合開始予定時刻",null,null,null,null,null,null,"Ｃ","大　　町白　　馬",3,{"$f":"IF(ISBLANK($V$6),\"\",$V$6)","v":"大　　町白　　馬"},{"$f":"IF(ISBLANK($V$6),\"\",$V$6)","v":"大　　町白　　馬"},"安曇野　穂 　高"]
["飯田運動公園　　　　　多目的運動場　　　　　（Ａ）弓道場側（Ｂ）入口側",null,"第４試合",{"$f":"IF(ISBLANK($V$13),\"\",$V$13)","v":"塩　尻"},0,"-",3,{"$f":"IF(ISBLANK($V$11),\"\",$V$11)","v":"飯　田"},{"$f":"IF(ISBLANK($V$12),\"\",$V$12)","v":"安曇野　穂 　高"},9,"-",0,{"$f":"IF(ISBLANK($V$4),\"\",$V$4)","v":"波　田"}," 1.）　　９：００～１０：３０",null,null,null,null,"第二週",null,"Ｄ","松本南",4,{"$f":"IF(ISBLANK($V$7),\"\",$V$7)","v":"松本南"},{"$f":"IF(ISBLANK($V$7),\"\",$V$7)","v":"松本南"},"堀　金"]
[null,null,null,null,null,"-",null,null,null,null,"-",null,null," 2.）　１０：４０～１２：１０",null,null,null,null,"４月１７日（日）",null,"Ｅ","三　郷",5,{"$f":"IF(ISBLANK($V$8),\"\",$V$8)","v":"三　郷"},{"$f":"IF(ISBLANK($V$8),\"\",$V$8)","v":"三　郷"},"豊　科"]
["第　五　週",null,"第１試合",{"$f":"IF(ISBLANK($V$10),\"\",$V$10)","v":"堀　金"},null,"-",null,{"$f":"IF(ISBLANK($V$12),\"\",$V$12)","v":"安曇野　穂 　高"},{"$f":"IF(ISBLANK($V$8),\"\",$V$8)","v":"三　郷"},null,"-",null,{"$f":"IF(ISBLANK($V$7),\"\",$V$7)","v":"松本南"}," 3.）　１２：２０～１３：５０",null,null,null,null,"塩尻会場",null,"Ｆ","松本北",6,{"$f":"IF(ISBLANK($V$9),\"\",$V$9)","v":"松本北"},{"$f":"IF(ISBLANK($V$9),\"\",$V$9)","v":"松本北"},"三　郷"]
["４月３０日（土）",null,"第２試合",{"$f":"IF(ISBLANK($V$11),\"\",$V$11)","v":"飯　田"},null,"-",null,{"$f":"IF(ISBLANK($V$4),\"\",$V$4)","v":"波　田"},{"$f":"IF(ISBLANK($V$6),\"\",$V$6)","v":"大　　町白　　馬"},null,"-",null,{"$f":"IF(ISBLANK($V$9),\"\",$V$9)","v":"松本北"}," 4.）　１４：００～１５：３０",null,null,null,null,"雨天中止",null,"Ｇ","堀　金",7,{"$f":"IF(ISBLANK($V$10),\"\",$V$10)","v":"堀　金"},{"$f":"IF(ISBLANK($V$10),\"\",$V$10)","v":"堀　金"},"空　白"]
["塩尻担当",null,"第３試合",{"$f":"IF(ISBLANK($V$4),\"\",$V$4)","v":"波　田"},null,"-",null,{"$f":"IF(ISBLANK($V$10),\"\",$V$10)","v":"堀　金"},{"$f":"IF(ISBLANK($V$7),\"\",$V$7)","v":"松本南"},null,"-",null,{"$f":"IF(ISBLANK($V$6),\"\",$V$6)","v":"大　　町白　　馬"},null,null,null,null,null,null,null,"Ｈ","飯　田",8,{"$f":"IF(ISBLANK($V$11),\"\",$V$11)","v":"飯　田"},{"$f":"IF(ISBLANK($V$11),\"\",$V$11)","v":"飯　田"},"波　田"]
["高家スポーツ広場",null,"第４試合",{"$f":"IF(ISBLANK($V$5),\"\",$V$5)","v":"豊　科"},null,"-",null,{"$f":"IF(ISBLANK($V$8),\"\",$V$8)","v":"三　郷"},{"$f":"IF(ISBLANK($V$9),\"\",$V$9)","v":"松本北"},null,"-",null,{"$f":"IF(ISBLANK($V$13),\"\",$V$13)","v":"塩　尻"},"第一週時間変更有",null,null,null,null,null,null,"Ｉ","安曇野　穂 　高",9,{"$f":"IF(ISBLANK($V$12),\"\",$V$12)","v":"安曇野　穂 　高"},{"$f":"IF(ISBLANK($V$12),\"\",$V$12)","v":"安曇野　穂 　高"},"松本北"]
["（Ａ）北側　（Ｂ）入口側",null,null,null,null,null,null,null,null,null,null,null,null,null,null,null,null,null,null,null,"Ｊ","塩　尻",10,{"$f":"IF(ISBLANK($V$13),\"\",$V$13)","v":"塩　尻"},{"$f":"IF(ISBLANK($V$13),\"\",$V$13)","v":"塩　尻"},"松本東"]
["第　三　週",null,"第１試合",{"$f":"IF(ISBLANK($V$11),\"\",$V$11)","v":"飯　田"},17,"-",11,{"$f":"IF(ISBLANK($V$9),\"\",$V$9)","v":"松本北"},{"$f":"IF(ISBLANK($V$5),\"\",$V$5)","v":"豊　科"},7,"-",15,{"$f":"IF(ISBLANK($V$6),\"\",$V$6)","v":"大　　町白　　馬"},"第　七　週",null,null,null,null,null,null,"Ｋ",null,11,{"$f":"IF(ISBLANK($V$14),\"\",$V$14)","v":""},{"$f":"IF(ISBLANK($V$14),\"\",$V$14)","v":""},"松本南"]
["４月２４日（日）",null,"第２試合",{"$f":"IF(ISBLANK($V$13),\"\",$V$13)","v":"塩　尻"},6,"-",6,{"$f":"IF(ISBLANK($V$7),\"\",$V$7)","v":"松本南"},{"$f":"IF(ISBLANK($V$12),\"\",$V$12)","v":"安曇野　穂 　高"},16,"-",5,{"$f":"IF(ISBLANK($V$8),\"\",$V$8)","v":"三　郷"}," 1.）　　９：３０～１１：００",null,null,null,null,null,null,"Ｌ",null,12,{"$f":"IF(ISBLANK($V$15),\"\",$V$15)","v":""},{"$f":"IF(ISBLANK($V$15),\"\",$V$15)","v":""},"塩　尻"]
["豊科会場",null,"第３試合",{"$f":"IF(ISBLANK($V$7),\"\",$V$7)","v":"松本南"},4,"-",15,{"$f":"IF(ISBLANK($V$11),\"\",$V$11)","v":"飯　田"},{"$f":"IF(ISBLANK($V$8),\"\",$V$8)","v":"三　郷"},1,"-",16,{"$f":"IF(ISBLANK($V$10),\"\",$V$10)","v":"堀　金"}," 2.）　１１：１０～１２：４０",null,null,null,null,null,null,"Ｍ",null,13,{"$f":"IF(ISBLANK($V$16),\"\",$V$16)","v":""},{"$f":"IF(ISBLANK($V$16),\"\",$V$16)","v":""},"飯　田"]
["高家スポーツ広場",null,"第４試合",{"$f":"IF(ISBLANK($V$9),\"\",$V$9)","v":"松本北"},0,"-",10,{"$f":"IF(ISBLANK($V$4),\"\",$V$4)","v":"波　田"},{"$f":"IF(ISBLANK($V$6),\"\",$V$6)","v":"大　　町白　　馬"},1,"-",7,{"$f":"IF(ISBLANK($V$12),\"\",$V$12)","v":"安曇野　穂 　高"}," 3.）　１２：５０～１４：２０",null,null,null,null,null,null,null,null,null,null,null,"Ａ"]
["（Ａ）北側　（Ｂ）入口側",null,null,null,null,"-",null,null,null,null,"-",null,null,null,null,null,null,null,null,null,null,null,null,null,null,"Ｂ"]
["第　四　週",null,"第１試合",{"$f":"IF(ISBLANK($V$10),\"\",$V$10)","v":"堀　金"},null,"-",null,{"$f":"IF(ISBLANK($V$6),\"\",$V$6)","v":"大　　町白　　馬"},{"$f":"IF(ISBLANK($V$7),\"\",$V$7)","v":"松本南"},null,"-",null,{"$f":"IF(ISBLANK($V$9),\"\",$V$9)","v":"松本北"},null,null,null,null,null,null,null,null,null,null,null,null,"Ｃ"]
["４月２９日（金）",null,"第２試合",{"$f":"IF(ISBLANK($V$8),\"\",$V$8)","v":"三　郷"},null,"-",null,{"$f":"IF(ISBLANK($V$4),\"\",$V$4)","v":"波　田"},{"$f":"IF(ISBLANK($V$11),\"\",$V$11)","v":"飯　田"},null,"-",null,{"$f":"IF(ISBLANK($V$5),\"\",$V$5)","v":"豊　科"},null,null,null,null,null,null,null,null,null,null,null,null,"Ｄ"]
["三郷会場",null,"第３試合",{"$f":"IF(ISBLANK($V$6),\"\",$V$6)","v":"大　　町白　　馬"},null,"-",null,{"$f":"IF(ISBLANK($V$8),\"\",$V$8)","v":"三　郷"},{"$f":"IF(ISBLANK($V$13),\"\",$V$13)","v":"塩　尻"},null,"-",null,{"$f":"IF(ISBLANK($V$12),\"\",$V$12)","v":"安曇野　穂 　高"},null,null,null,null,null,null,null,null,null,null,null,null,"Ｅ"]
["高家スポーツ広場",null,"第４試合",{"$f":"IF(ISBLANK($V$4),\"\",$V$4)","v":"波　田"},null,"-",null,{"$f":"IF(ISBLANK($V$7),\"\",$V$7)","v":"松本南"},{"$f":"IF(ISBLANK($V$5),\"\",$V$5)","v":"豊　科"},null,"-",null,{"$f":"IF(ISBLANK($V$13),\"\",$V$13)","v":"塩　尻"},null,null,null,null,null,null,null,null,null,null,null,null,"Ｆ"]
["（Ａ）北側　（Ｂ）入口側",null,null,null,null,"-",null,null,null,null,"-",null,null,null,null,null,null,null,null,null,null,null,null,null,null,"Ｇ"]
["第　五　週",null,"第１試合",{"$f":"IF(ISBLANK($V$11),\"\",$V$11)","v":"飯　田"},null,"-",null,{"$f":"IF(ISBLANK($V$12),\"\",$V$12)","v":"安曇野　穂 　高"},{"$f":"IF(ISBLANK($V$8),\"\",$V$8)","v":"三　郷"},null,"-",null,{"$f":"IF(ISBLANK($V$13),\"\",$V$13)","v":"塩　尻"},null,null,null,null,null,null,null,null,null,null,null,null,"Ｈ"]
["５月　１日（日）",null,"第２試合",{"$f":"IF(ISBLANK($V$9),\"\",$V$9)","v":"松本北"},null,"-",null,{"$f":"IF(ISBLANK($V$5),\"\",$V$5)","v":"豊　科"},{"$f":"IF(ISBLANK($V$4),\"\",$V$4)","v":"波　田"},null,"-",null,{"$f":"IF(ISBLANK($V$6),\"\",$V$6)","v":"大　　町白　　馬"},null,null,null,null,null,null,null,null,null,null,null,null,"Ｉ"]
["堀金会場",null,"第３試合",{"$f":"IF(ISBLANK($V$12),\"\",$V$12)","v":"安曇野　穂 　高"},null,"-",null,{"$f":"IF(ISBLANK($V$9),\"\",$V$9)","v":"松本北"},{"$f":"IF(ISBLANK($V$13),\"\",$V$13)","v":"塩　尻"},null,"-",null,{"$f":"IF(ISBLANK($V$10),\"\",$V$10)","v":"堀　金"},null,null,null,null,null,null,null,null,null,null,null,null,"Ｊ"]
["高家スポーツ広場",null,"第４試合",{"$f":"IF(ISBLANK($V$5),\"\",$V$5)","v":"豊　科"},null,"-",null,{"$f":"IF(ISBLANK($V$7),\"\",$V$7)","v":"松本南"},{"$f":"IF(ISBLANK($V$10),\"\",$V$10)","v":"堀　金"},null,"-",null,{"$f":"IF(ISBLANK($V$11),\"\",$V$11)","v":"飯　田"},null,null,null,null,null,null,null,null,null,null,null,null,"Ｋ"]
["（Ａ）北側　（Ｂ）入口側",null,null,null,null,"-",null,null,null,null,"-",null,null,null,null,null,null,null,null,null,null,null,null,null,null,"Ｌ"]
["第　六　週",null,"第１試合",{"$f":"IF(ISBLANK($V$4),\"\",$V$4)","v":"波　田"},null,"-",null,{"$f":"IF(ISBLANK($V$5),\"\",$V$5)","v":"豊　科"},{"$f":"IF(ISBLANK($V$9),\"\",$V$9)","v":"松本北"},null,"-",null,{"$f":"IF(ISBLANK($V$10),\"\",$V$10)","v":"堀　金"},null,null,null,null,null,null,null,null,null,null,null,null,"Ｍ"]
["５月　３日（火）",null,"第２試合",{"$f":"IF(ISBLANK($V$6),\"\",$V$6)","v":"大　　町白　　馬"},null,"-",null,{"$f":"IF(ISBLANK($V$13),\"\",$V$13)","v":"塩　尻"},{"$f":"IF(ISBLANK($V$7),\"\",$V$7)","v":"松本南"},null,"-",null,{"$f":"IF(ISBLANK($V$12),\"\",$V$12)","v":"安曇野　穂 　高"},null,null,null,null,null,null,null,null,null,null,null,null,"空　白"]
["大町白馬会場",null,"第３試合",{"$f":"IF(ISBLANK($V$11),\"\",$V$11)","v":"飯　田"},null,"-",null,{"$f":"IF(ISBLANK($V$8),\"\",$V$8)","v":"三　郷"},null,null,"-"]
["白馬村北部　　　　　　　村営グラウンド　　　　　（Ａ）プール側 （Ｂ）北側",null,null,null,null,"-",null,null,null,null,"-",null,null," ※ 試合開始予定時刻"]
[null,null,null,null,null,"-",null,null,null,null,"-",null,null,"　６０分前に、開催地グラウ"]
["第　七　週",null,"第１試合",null,null,"-",null,null,null,null,"-",null,null,"　ンドへ集合し、大会本部"]
["５月日（）",null,"第２試合",null,null,"-",null,null,null,null,"-",null,null,"　へ連絡する。"]
[null,null,"第３試合",null,null,"-",null,null,null,null,"-",null,null,"　ベンチは、組合せ左側を　"]
[null,null,"第４試合",null,null,"-",null,null,null,null,"-",null,null,"　一塁側・右側を三塁側と"]
[null,null,null,null,null,"-",null,null,null,null,"-",null,null,"　する。"]
["第　八　週",null,"第１試合",null,null,"-",null,null,null,null,"-",null,null,null,null,"-"]
["５月日（）",null,"第２試合",null,null,"-",null,null,null,null,"-",null,null,null,null,"-"]
[null,null,"第３試合",null,null,"-",null,null,null,null,"-",null,null,null,null,"-"]
[null,null,"第４試合",null,null,"-",null,null,null,null,"-",null,null,null,null,"-"]
[null,null,null,null,null,"-",null,null,null,null,"-",null,null,null,null,"-"]
["予　備　日"]
[null,"４月３０日（土）　会場　高家スポーツ広場　運営　中止になったリーグ　"]
[null,"５月４・５日（水・木）　大町白馬会場予定"]
[null,"閉会式　　北部村営グラウンド（Ａ）グラウンド"]
[null,null,null,"※ 天候により、土曜日開催もあります。ご協力よろしくお願いいたします。"]

{"sheet":"Ａグラウンド","index":1,"n_rows":70,"n_cols":58,"rows_kept":70,"cut":false,"hidden":false,"merged":[[0,0,1,58],[2,0,2,23],[4,10,4,14],[4,15,4,20],[2,49,2,58],[3,49,3,58],[8,21,8,26],[8,57,8,58],[8,55,8,56],[8,53,8,54],[8,51,8,52],[8,47,8,50],[8,43,8,44],[8,40,8,41],[8,6,8,11],[8,12,8,17],[2,25,2,48],[8,0,8,5],[8,34,8,39],[8,30,8,31],[6,47,6,48],[8,27,8,28],[6,25,6,46],[4,21,4,48],[15,0,15,5],[13,0,13,5],[14,0,14,5],[13,6,13,21],[11,20,11,21],[11,10,11,11],[11,12,11,13],[11,0,11,5],[11,18,11,19],[11,6,11,7],[11,8,11,9],[11,14,11,15],[11,16,11,17],[14,6,14,21],[15,6,15,21],[17,12,17,17],[9,6,9,7],[9,8,9,9],[9,16,9,17],[9,18,9,19],[9,20,9,21],[9,10,9,11],[18,6,18,7],[18,8,18,9],[18,10,18,11],[18,12,18,13],[17,6,17,11],[10,0,10,5],[10,10,10,11],[10,12,10,13],[10,8,10,9],[10,6,10,7],[6,7,6,11],[6,12,6,22],[9,12,9,13],[9,14,9,15],[10,14,10,15],[10,18,10,19],[10,20,10,21],[10,22,10,23],[10,16,10,17],[9,0,9,5],[6,23,6,24],[9,46,9,58],[10,46,10,58],[11,46,11,58],[13,35,13,58],[9,28,9,45],[9,24,9,26],[11,24,11,26],[9,22,9,23],[6,49,6,57],[15,35,15,58],[10,28,10,45],[11,28,11,45],[14,35,14,58],[13,22,13,34],[14,22,14,34],[15,22,15,34],[11,22,11,23],[10,24,10,26],[18,46,18,58],[17,47,17,50],[17,51,17,52],[17,53,17,54],[18,24,18,26],[18,28,18,45],[17,55,17,56],[17,40,17,41],[17,43,17,44],[17,27,17,28],[17,57,17,58],[17,30,17,31],[17,34,17,39],[17,21,17,26],[18,20,18,21],[19,22,19,23],[19,0,19,5],[19,6,19,7],[19,8,19,9],[19,10,19,11],[19,12,19,13],[19,14,19,15],[18,14,18,15],[18,16,18,17],[18,18,18,19],[18,22,18,23],[17,0,17,5],[18,0,18,5],[20,28,20,45],[19,46,19,58],[20,46,20,58],[26,40,26,41],[19,16,19,17],[19,18,19,19],[19,20,19,21],[26,57,26,58],[24,35,24,58],[26,43,26,44],[26,47,26,50],[26,51,26,52],[19,24,19,26],[19,28,19,45],[24,6,24,21],[24,22,24,34],[26,12,26,17],[23,22,23,34],[23,35,23,58],[26,6,26,11],[26,53,26,54],[26,55,26,56],[22,35,22,58],[26,0,26,5],[26,21,26,26],[26,27,26,28],[26,30,26,31],[26,34,26,39],[27,16,27,17],[27,18,27,19],[20,0,20,5],[20,6,20,7],[20,8,20,9],[20,10,20,11],[23,0,23,5],[23,6,23,21],[22,0,22,5],[22,6,22,21],[22,22,22,34],[20,12,20,13],[20,14,20,15],[20,16,20,17],[20,18,20,19],[20,20,20,21],[20,22,20,23],[20,24,20,26],[24,0,24,5],[31,35,31,58],[29,28,29,45],[28,46,28,58],[28,10,28,11],[28,12,28,13],[28,14,28,15],[28,16,28,17],[28,18,28,19],[28,20,28,21],[28,22,28,23],[29,46,29,58],[28,0,28,5],[27,0,27,5],[27,6,27,7],[28,6,28,7],[28,8,28,9],[28,24,28,26],[28,28,28,45],[27,8,27,9],[27,10,27,11],[27,12,27,13],[27,14,27,15],[27,46,27,58],[27,22,27,23],[27,24,27,26],[27,28,27,45],[27,20,27,21],[36,46,36,58],[35,21,35,26],[35,27,35,28],[35,12,35,17],[35,40,35,41],[29,24,29,26],[31,22,31,34],[36,16,36,17],[36,18,36,19],[36,28,36,45],[29,16,29,17],[29,18,29,23],[32,0,32,5],[32,6,32,21],[35,43,35,44],[36,20,36,21],[33,0,33,5],[35,47,35,50],[35,51,35,52],[32,35,32,58],[33,35,33,58],[35,53,35,54],[35,55,35,56],[35,57,35,58],[35,34,35,39],[35,6,35,11],[35,30,35,31],[32,22,32,34],[33,6,33,21],[33,22,33,34],[36,22,36,23],[36,24,36,26],[35,0,35,5],[36,10,36,11],[36,12,36,13],[36,14,36,15],[29,10,29,11],[29,12,29,13],[29,0,29,5],[29,6,29,7],[29,8,29,9],[31,0,31,5],[31,6,31,21],[36,0,36,5],[36,6,36,7],[36,8,36,9],[38,10,38,11],[38,14,38,15],[37,12,37,13],[37,24,37,26],[38,16,38,21],[41,0,41,5],[41,6,41,21],[37,0,37,5],[37,6,37,7],[37,8,37,9],[37,10,37,11],[37,16,37,17],[37,18,37,19],[40,0,40,5],[40,6,40,21],[37,20,37,21],[37,14,37,15],[38,6,38,7],[38,8,38,9],[38,0,38,5],[44,47,44,50],[44,51,44,52],[44,34,44,39],[44,40,44,41],[44,21,44,26],[44,27,44,28],[38,46,38,58],[37,22,37,23],[38,22,38,23],[38,24,38,26],[37,28,37,45],[37,46,37,58],[41,22,41,34],[44,30,44,31],[40,22,40,34],[41,35,41,58],[44,53,44,54],[44,55,44,56],[44,57,44,58],[42,35,42,58],[44,43,44,44],[40,35,40,58],[38,28,38,45],[42,0,42,5],[42,6,42,21],[42,22,42,34],[45,22,45,23],[45,24,45,26],[45,28,45,45],[44,0,44,5],[45,0,45,5],[45,6,45,7],[45,8,45,9],[44,6,44,11],[45,10,45,11],[45,12,45,13],[45,14,45,15],[44,12,44,17],[49,35,49,58],[47,28,47,45],[47,46,47,58],[47,12,47,13],[45,16,45,17],[45,18,45,19],[45,20,45,21],[47,22,47,23],[47,24,47,26],[45,46,45,58],[46,18,46,19],[46,20,46,21],[46,16,46,17],[46,24,46,26],[46,28,46,45],[46,46,46,58],[46,22,46,23],[50,22,50,34],[47,18,47,19],[47,16,47,17],[47,0,47,5],[47,6,47,7],[47,8,47,9],[47,10,47,11],[49,0,49,5],[49,6,49,21],[49,22,49,34],[47,20,47,21],[46,6,46,7],[46,8,46,9],[47,14,47,15],[46,10,46,11],[46,12,46,13],[46,14,46,15],[46,0,46,5],[50,0,50,5],[50,6,50,21],[54,46,54,58],[53,40,53,41],[50,35,50,58],[53,53,53,54],[53,55,53,56],[53,57,53,58],[51,0,51,5],[51,6,51,21],[51,22,51,34],[53,0,53,5],[54,16,54,17],[54,18,54,19],[53,6,53,11],[53,12,53,17],[53,30,53,31],[53,21,53,26],[53,27,53,28],[54,10,54,11],[54,12,54,13],[51,35,51,58],[53,43,53,44],[53,47,53,50],[53,51,53,52],[53,34,53,39],[58,0,58,5],[55,46,55,58],[55,10,55,11],[55,12,55,13],[55,14,55,15],[55,16,55,17],[55,18,55,19],[55,20,55,21],[55,22,55,23],[56,0,56,5],[55,6,55,7],[55,8,55,9],[56,22,56,23],[56,24,56,26],[54,14,54,15],[55,24,55,26],[54,22,54,23],[54,24,54,26],[55,0,55,5],[54,0,54,5],[54,6,54,7],[54,8,54,9],[55,28,55,45],[54,28,54,45],[54,20,54,21],[62,47,62,50],[56,28,56,45],[56,46,56,58],[62,21,62,26],[62,27,62,28],[62,30,62,31],[60,6,60,21],[62,55,62,56],[62,57,62,58],[58,6,58,21],[58,22,58,34],[58,35,58,58],[60,22,60,34],[59,22,59,34],[59,6,59,21],[59,35,59,58],[62,51,62,52],[62,6,62,11],[62,12,62,17],[62,53,62,54],[60,35,60,58],[62,34,62,39],[62,40,62,41],[62,43,62,44],[69,0,69,5],[69,6,69,21],[69,22,69,34],[69,35,69,58],[67,0,67,5],[64,46,64,58],[63,18,63,19],[63,24,63,26],[63,28,63,45],[68,6,68,21],[68,22,68,34],[68,35,68,58],[65,22,65,23],[65,24,65,26],[65,28,65,45],[65,12,65,13],[65,14,65,15],[63,46,63,58],[64,12,64,13],[64,20,64,21],[64,22,64,23],[63,22,63,23],[65,16,65,17],[64,6,64,7],[67,35,67,58],[68,0,68,5],[64,8,64,9],[65,0,65,5],[64,10,64,11],[65,8,65,9],[65,10,65,11],[64,0,64,5],[65,46,65,58],[65,20,65,21],[65,6,65,7],[65,18,65,19],[64,24,64,26],[64,28,64,45],[63,20,63,21],[56,18,56,19],[56,16,56,17],[59,0,59,5],[64,14,64,15],[64,16,64,17],[64,18,64,19],[67,6,67,21],[67,22,67,34],[63,12,63,13],[63,14,63,15],[63,16,63,17],[56,6,56,7],[56,8,56,9],[56,10,56,11],[56,12,56,13],[63,10,63,11],[63,0,63,5],[63,6,63,7],[63,8,63,9],[62,0,62,5],[60,0,60,5],[56,14,56,15],[56,20,56,21]]}
["公益財団法人　日本リトルリーグ野球協会御中"]
[]
["　　　お世話に成ります。　　試合記録を報告します。",null,null,null,null,null,null,null,null,null,null,null,null,null,null,null,null,null,null,null,null,null,null,null,null,"試合日　平成 ２８年 ４月 ２４日(日)",null,null,null,null,null,null,null,null,null,null,null,null,null,null,null,null,null,null,null,null,null,null,null,"中南信ブロック事務局"]
[null,null,null,null,null,null,null,null,null,null,null,null,null,null,null,null,null,null,null,null,null,null,null,null,null,null,null,null,null,null,null,null,null,null,null,null,null,null,null,null,null,null,null,null,null,null,null,null,null,"柳原喜夫"]
[null,null,null,null,null,null,null,null,null,null,"大会名 ：",null,null,null,null,"２０１６年度",null,null,null,null,null,"信越連盟春季大会　中南信ブロック予選　（リーグ戦）"]
[]
[null,null,null,null,null,null,null,"開催地 ：",null,null,null,null,"安曇野",null,null,null,null,null,null,null,null,null,null,"市",null,"高家スポーツ広場",null,null,null,null,null,null,null,null,null,null,null,null,null,null,null,null,null,null,null,null,null,"Ａ",null,"グラウンド"]
[]
["第三週",null,null,null,null,null,"回戦",null,null,null,null,null,"第一試合",null,null,null,null,null,null,null,null,"試合開始時間",null,null,null,null,null,8,null,"時",59,null,"分",null,"試合終了時間",null,null,null,null,null,10,null,"時",46,null,"分",null,"試合時間",null,null,null,1,null,"時間",null,47,null,"分"]
[null,null,null,null,null,null,1,null,2,null,3,null,4,null,5,null,6,null,7,null,8,null,9,null,"合　計",null,null,null,"投　　　　　　　　手",null,null,null,null,null,null,null,null,null,null,null,null,null,null,null,null,null,"捕　　　　　　　手"]
["飯田",null,null,null,null,null,1,null,0,null,2,null,3,null,8,null,3,null,null,null,null,null,null,null,{"$f":"SUM(G11:X11)","v":17},null,null,null,"登内・福与・滝澤",null,null,null,null,null,null,null,null,null,null,null,null,null,null,null,null,null,"篠田"]
["松本北",null,null,null,null,null,0,null,4,null,3,null,2,null,2,null,0,null,null,null,null,null,null,null,{"$f":"SUM(G12:X12)","v":11},null,null,null,"高島・榊原",null,null,null,null,null,null,null,null,null,null,null,null,null,null,null,null,null,"常田"]
[]
[null,null,null,null,null,null,"本　　塁　　打",null,null,null,null,null,null,null,null,null,null,null,null,null,null,null,"三　　塁　　打",null,null,null,null,null,null,null,null,null,null,null,null,"二　　　　塁　　　　打"]
[{"$f":"A11","v":"飯田"},null,null,null,null,null,"篠田（２）・熊谷大生・熊谷澪央",null,null,null,null,null,null,null,null,null,null,null,null,null,null,null,"滝澤"]
[{"$f":"A12","v":"松本北"},null,null,null,null,null,null,null,null,null,null,null,null,null,null,null,null,null,null,null,null,null,"常田",null,null,null,null,null,null,null,null,null,null,null,null,"深澤・百瀬"]
[]
["第三週",null,null,null,null,null,"回戦",null,null,null,null,null,"第二試合",null,null,null,null,null,null,null,null,"試合開始時間",null,null,null,null,null,11,null,"時",12,null,"分",null,"試合終了時間",null,null,null,null,null,12,null,"時",44,null,"分",null,"試合時間",null,null,null,1,null,"時間",null,32,null,"分"]
[null,null,null,null,null,null,1,null,2,null,3,null,4,null,5,null,6,null,7,null,8,null,9,null,"合　計",null,null,null,"投　　　　　　　　手",null,null,null,null,null,null,null,null,null,null,null,null,null,null,null,null,null,"捕　　　　　　　手"]
["塩尻",null,null,null,null,null,0,null,1,null,0,null,0,null,4,null,1,null,null,null,null,null,null,null,{"$f":"SUM(G20:X20)","v":6},null,null,null,"石橋・小松",null,null,null,null,null,null,null,null,null,null,null,null,null,null,null,null,null,"宮原"]
["松本南",null,null,null,null,null,1,null,0,null,4,null,1,null,0,null,0,null,null,null,null,null,null,null,{"$f":"SUM(G21:X21)","v":6},null,null,null,"山口・百瀬和真・舩坂",null,null,null,null,null,null,null,null,null,null,null,null,null,null,null,null,null,"渡辺劍真"]
[]
[null,null,null,null,null,null,"本　　塁　　打",null,null,null,null,null,null,null,null,null,null,null,null,null,null,null,"三　　塁　　打",null,null,null,null,null,null,null,null,null,null,null,null,"二　　　　塁　　　　打"]
[{"$f":"A20","v":"塩尻"},null,null,null,null,null,"石橋",null,null,null,null,null,null,null,null,null,null,null,null,null,null,null,null,null,null,null,null,null,null,null,null,null,null,null,null,"塚本"]
[{"$f":"A21","v":"松本南"},null,null,null,null,null,null,null,null,null,null,null,null,null,null,null,null,null,null,null,null,null,"百瀬和真"]
[]
["第三週",null,null,null,null,null,"回戦",null,null,null,null,null,"第三試合",null,null,null,null,null,null,null,null,"試合開始時間",null,null,null,null,null,13,null,"時",15,null,"分",null,"試合終了時間",null,null,null,null,null,14,null,"時",38,null,"分",null,"試合時間",null,null,null,1,null,"時間",null,23,null,"分"]
[null,null,null,null,null,null,1,null,2,null,3,null,4,null,5,null,6,null,7,null,8,null,9,null,"合　計",null,null,null,"投　　　　　　　　手",null,null,null,null,null,null,null,null,null,null,null,null,null,null,null,null,null,"捕　　　　　　　手"]
["松本南",null,null,null,null,null,0,null,0,null,3,null,0,null,1,null,null,null,null,null,null,null,null,null,{"$f":"SUM(G29:X29)","v":4},null,null,null,"山田・中林・百瀬和真",null,null,null,null,null,null,null,null,null,null,null,null,null,null,null,null,null,"渡辺劍真"]
["飯田",null,null,null,null,null,3,null,0,null,3,null,5,null,4,"Ｘ",null,null,"５回コールド",null,null,null,null,null,{"$f":"SUM(G30:X30)","v":15},null,null,null,"熊谷大生・森本",null,null,null,null,null,null,null,null,null,null,null,null,null,null,null,null,null,"篠田"]
[]
[null,null,null,null,null,null,"本　　塁　　打",null,null,null,null,null,null,null,null,null,null,null,null,null,null,null,"三　　塁　　打",null,null,null,null,null,null,null,null,null,null,null,null,"二　　　　塁　　　　打"]
[{"$f":"A29","v":"松本南"},null,null,null,null,null,null,null,null,null,null,null,null,null,null,null,null,null,null,null,null,null,null,null,null,null,null,null,null,null,null,null,null,null,null,"西島"]
[{"$f":"A30","v":"飯田"},null,null,null,null,null,"鈴木・篠田",null,null,null,null,null,null,null,null,null,null,null,null,null,null,null,"熊谷澪央",null,null,null,null,null,null,null,null,null,null,null,null,"篠田・熊谷大生"]
[]
["第三週",null,null,null,null,null,"回戦",null,null,null,null,null,"第四試合",null,null,null,null,null,null,null,null,"試合開始時間",null,null,null,null,null,14,null,"時",57,null,"分",null,"試合終了時間",null,null,null,null,null,15,null,"時",53,null,"分",null,"試合時間",null,null,null,0,null,"時間",null,56,null,"分"]
[null,null,null,null,null,null,1,null,2,null,3,null,4,null,5,null,6,null,7,null,8,null,9,null,"合　計",null,null,null,"投　　　　　　　　手",null,null,null,null,null,null,null,null,null,null,null,null,null,null,null,null,null,"捕　　　　　　　手"]
["松本北",null,null,null,null,null,0,null,0,null,0,null,0,null,null,null,null,null,null,null,null,null,null,null,{"$f":"SUM(G38:X38)","v":0},null,null,null,"百瀬・深澤",null,null,null,null,null,null,null,null,null,null,null,null,null,null,null,null,null,"常田"]
["波田",null,null,null,null,null,3,null,0,null,4,null,3,"Ｘ",null,null,"４回コールド",null,null,null,null,null,null,null,{"$f":"SUM(G39:X39)","v":10},null,null,null,"牛丸",null,null,null,null,null,null,null,null,null,null,null,null,null,null,null,null,null,"青木"]
[]
[null,null,null,null,null,null,"本　　塁　　打",null,null,null,null,null,null,null,null,null,null,null,null,null,null,null,"三　　塁　　打",null,null,null,null,null,null,null,null,null,null,null,null,"二　　　　塁　　　　打"]
[{"$f":"A38","v":"松本北"},null,null,null,null,null,null,null,null,null,null,null,null,null,null,null,null,null,null,null,null,null,null,null,null,null,null,null,null,null,null,null,null,null,null,"百瀬"]
[{"$f":"A39","v":"波田"},null,null,null,null,null,"保高（２）",null,null,null,null,null,null,null,null,null,null,null,null,null,null,null,"牛丸・朝比奈",null,null,null,null,null,null,null,null,null,null,null,null,"逸見（２）・保高・牛丸"]
[]
["第週",null,null,null,null,null,"回戦",null,null,null,null,null,"第試合",null,null,null,null,null,null,null,null,"試合開始時間",null,null,null,null,null,null,null,"時",null,null,"分",null,"試合終了時間",null,null,null,null,null,null,null,"時",null,null,"分",null,"試合時間",null,null,null,null,null,"時間",null,null,null,"分"]
[null,null,null,null,null,null,1,null,2,null,3,null,4,null,5,null,6,null,7,null,8,null,9,null,"合　計",null,null,null,"投　　　　　　　　手",null,null,null,null,null,null,null,null,null,null,null,null,null,null,null,null,null,"捕　　　　　　　手"]
[null,null,null,null,null,null,null,null,null,null,null,null,null,null,null,null,null,null,null,null,null,null,null,null,{"$f":"SUM(G47:X47)","v":0}]
[null,null,null,null,null,null,null,null,null,null,null,null,null,null,null,null,null,null,null,null,null,null,null,null,{"$f":"SUM(G48:X48)","v":0}]
[]
[null,null,null,null,null,null,"本　　塁　　打",null,null,null,null,null,null,null,null,null,null,null,null,null,null,null,"三　　塁　　打",null,null,null,null,null,null,null,null,null,null,null,null,"二　　　　塁　　　　打"]
[{"$f":"A47","v":0}]
[{"$f":"A48","v":0}]
[]
["第日目",null,null,null,null,null,"回戦",null,null,null,null,null,"第試合",null,null,null,null,null,null,null,null,"試合開始時間",null,null,null,null,null,null,null,"時",null,null,"分",null,"試合終了時間",null,null,null,null,null,null,null,"時",null,null,"分",null,"試合時間",null,null,null,null,null,"時間",null,null,null,"分"]
[null,null,null,null,null,null,1,null,2,null,3,null,4,null,5,null,6,null,7,null,8,null,9,null,"合　計",null,null,null,"投　　　　　　　　手",null,null,null,null,null,null,null,null,null,null,null,null,null,null,null,null,null,"捕　　　　　　　手"]
[null,null,null,null,null,null,null,null,null,null,null,null,null,null,null,null,null,null,null,null,null,null,null,null,{"$f":"SUM(G56:X56)","v":0}]
[null,null,null,null,null,null,null,null,null,null,null,null,null,null,null,null,null,null,null,null,null,null,null,null,{"$f":"SUM(G57:X57)","v":0}]
[]
[null,null,null,null,null,null,"本　　塁　　打",null,null,null,null,null,null,null,null,null,null,null,null,null,null,null,"三　　塁　　打",null,null,null,null,null,null,null,null,null,null,null,null,"二　　　　塁　　　　打"]
[{"$f":"A56","v":0}]
[{"$f":"A57","v":0}]
[]
["第日目",null,null,null,null,null,"回戦",null,null,null,null,null,"第試合",null,null,null,null,null,null,null,null,"試合開始時間",null,null,null,null,null,null,null,"時",null,null,"分",null,"試合終了時間",null,null,null,null,null,null,null,"時",null,null,"分",null,"試合時間",null,null,null,null,null,"時間",null,null,null,"分"]
[null,null,null,null,null,null,1,null,2,null,3,null,4,null,5,null,6,null,7,null,8,null,9,null,"合　計",null,null,null,"投　　　　　　　　手",null,null,null,null,null,null,null,null,null,null,null,null,null,null,null,null,null,"捕　　　　　　　手"]
[null,null,null,null,null,null,null,null,null,null,null,null,null,null,null,null,null,null,null,null,null,null,null,null,{"$f":"SUM(G65:X65)","v":0}]
[null,null,null,null,null,null,null,null,null,null,null,null,null,null,null,null,null,null,null,null,null,null,null,null,{"$f":"SUM(G66:X66)","v":0}]
[]
[null,null,null,null,null,null,"本　　塁　　打",null,null,null,null,null,null,null,null,null,null,null,null,null,null,null,"三　　塁　　打",null,null,null,null,null,null,null,null,null,null,null,null,"二　　　　塁　　　　打"]
[{"$f":"A65","v":0}]
[{"$f":"A66","v":0}]

{"sheet":"Ｂグラウンド","index":2,"n_rows":69,"n_cols":58,"rows_kept":69,"cut":false,"hidden":false,"merged":[[63,0,63,5],[63,6,63,7],[63,8,63,9],[63,10,63,11],[64,0,64,5],[64,6,64,7],[64,20,64,21],[68,35,68,58],[64,8,64,9],[64,10,64,11],[66,0,66,5],[66,6,66,21],[66,22,66,34],[66,35,66,58],[67,0,67,5],[67,6,67,21],[67,22,67,34],[64,22,64,23],[67,35,67,58],[64,28,64,45],[64,46,64,58],[64,12,64,13],[64,14,64,15],[64,16,64,17],[64,18,64,19],[64,24,64,26],[68,0,68,5],[68,6,68,21],[68,22,68,34],[62,46,62,58],[63,28,63,45],[63,46,63,58],[62,12,62,13],[62,14,62,15],[62,16,62,17],[63,22,63,23],[62,18,62,19],[62,20,62,21],[62,22,62,23],[63,24,63,26],[63,18,63,19],[63,20,63,21],[63,12,63,13],[63,14,63,15],[63,16,63,17],[62,0,62,5],[62,6,62,7],[62,8,62,9],[62,10,62,11],[62,24,62,26],[62,28,62,45],[61,34,61,39],[61,0,61,5],[61,21,61,26],[61,40,61,41],[61,43,61,44],[58,35,58,58],[59,22,59,34],[59,0,59,5],[59,6,59,21],[59,35,59,58],[61,30,61,31],[61,53,61,54],[61,55,61,56],[61,57,61,58],[61,47,61,50],[61,51,61,52],[61,27,61,28],[61,6,61,11],[61,12,61,17],[58,0,58,5],[58,6,58,21],[58,22,58,34],[55,22,55,23],[55,24,55,26],[55,28,55,45],[57,35,57,58],[57,0,57,5],[57,6,57,21],[55,0,55,5],[55,6,55,7],[55,8,55,9],[55,10,55,11],[55,20,55,21],[57,22,57,34],[55,46,55,58],[54,46,54,58],[55,12,55,13],[55,14,55,15],[55,16,55,17],[55,18,55,19],[52,57,52,58],[52,40,52,41],[52,43,52,44],[52,47,52,50],[52,51,52,52],[53,16,53,17],[53,46,53,58],[52,53,52,54],[54,24,54,26],[54,28,54,45],[53,18,53,19],[53,20,53,21],[53,22,53,23],[53,24,53,26],[53,28,53,45],[52,55,52,56],[52,34,52,39],[52,21,52,26],[52,27,52,28],[54,20,54,21],[54,22,54,23],[52,30,52,31],[54,16,54,17],[54,18,54,19],[52,0,52,5],[52,6,52,11],[52,12,52,17],[53,12,53,13],[53,14,53,15],[53,0,53,5],[53,6,53,7],[53,8,53,9],[53,10,53,11],[54,0,54,5],[54,6,54,7],[54,8,54,9],[54,10,54,11],[54,12,54,13],[54,14,54,15],[48,22,48,34],[48,35,48,58],[48,0,48,5],[48,6,48,21],[50,35,50,58],[49,0,49,5],[49,6,49,21],[49,22,49,34],[49,35,49,58],[50,22,50,34],[50,0,50,5],[50,6,50,21],[46,0,46,5],[46,6,46,7],[46,8,46,9],[46,10,46,11],[46,20,46,21],[46,12,46,13],[46,14,46,15],[46,16,46,17],[46,46,46,58],[46,28,46,45],[45,46,45,58],[43,34,43,39],[43,21,43,26],[43,27,43,28],[45,20,45,21],[45,22,45,23],[46,18,46,19],[45,0,45,5],[45,6,45,7],[45,8,45,9],[45,10,45,11],[45,12,45,13],[45,14,45,15],[45,16,45,17],[45,18,45,19],[45,24,45,26],[45,28,45,45],[44,18,44,19],[44,20,44,21],[44,22,44,23],[44,24,44,26],[44,28,44,45],[46,22,46,23],[46,24,46,26],[43,55,43,56],[43,57,43,58],[43,40,43,41],[43,43,43,44],[43,47,43,50],[43,51,43,52],[43,30,43,31],[44,46,44,58],[43,53,43,54],[44,16,44,17],[43,0,43,5],[43,6,43,11],[43,12,43,17],[44,12,44,13],[44,14,44,15],[44,0,44,5],[44,6,44,7],[44,8,44,9],[44,10,44,11],[39,22,39,34],[39,35,39,58],[39,0,39,5],[39,6,39,21],[41,35,41,58],[40,0,40,5],[40,6,40,21],[40,22,40,34],[40,35,40,58],[41,22,41,34],[41,0,41,5],[41,6,41,21],[36,0,36,5],[36,6,36,7],[36,8,36,9],[36,10,36,11],[36,12,36,13],[36,14,36,15],[36,16,36,17],[36,18,36,19],[37,22,37,23],[37,0,37,5],[37,6,37,7],[37,8,37,9],[37,10,37,11],[37,20,37,21],[37,12,37,13],[37,14,37,15],[37,16,37,17],[37,18,37,19],[34,55,34,56],[34,57,34,58],[34,40,34,41],[34,43,34,44],[34,47,34,50],[34,51,34,52],[37,24,37,26],[37,28,37,45],[37,46,37,58],[36,46,36,58],[34,34,34,39],[34,21,34,26],[34,27,34,28],[36,20,36,21],[36,22,36,23],[35,46,35,58],[34,53,34,54],[36,24,36,26],[36,28,36,45],[34,30,34,31],[33,35,33,58],[32,0,32,5],[32,6,32,21],[32,22,32,34],[32,35,32,58],[33,22,33,34],[33,0,33,5],[33,6,33,21],[31,0,31,5],[31,6,31,21],[31,35,31,58],[34,0,34,5],[34,6,34,11],[34,12,34,17],[35,12,35,13],[35,14,35,15],[35,0,35,5],[35,6,35,7],[35,8,35,9],[35,10,35,11],[35,16,35,17],[35,18,35,19],[35,20,35,21],[35,22,35,23],[35,24,35,26],[35,28,35,45],[31,22,31,34],[28,0,28,5],[28,6,28,7],[28,8,28,9],[28,10,28,11],[28,12,28,13],[28,14,28,15],[28,16,28,17],[28,18,28,19],[29,22,29,23],[29,0,29,5],[29,6,29,7],[29,8,29,9],[29,10,29,11],[28,24,28,26],[28,28,28,45],[27,20,27,21],[27,22,27,23],[27,24,27,26],[27,28,27,45],[26,55,26,56],[29,12,29,13],[29,14,29,15],[29,24,29,26],[29,28,29,45],[29,46,29,58],[28,46,28,58],[26,34,26,39],[26,21,26,26],[26,27,26,28],[28,20,28,21],[28,22,28,23],[26,30,26,31],[26,57,26,58],[26,40,26,41],[26,43,26,44],[26,47,26,50],[26,51,26,52],[29,16,29,21],[26,0,26,5],[26,6,26,11],[26,12,26,17],[27,46,27,58],[26,53,26,54],[27,16,27,17],[20,14,20,15],[22,0,22,5],[22,6,22,21],[20,0,20,5],[20,6,20,7],[20,8,20,9],[27,12,27,13],[27,14,27,15],[27,0,27,5],[27,6,27,7],[27,8,27,9],[27,10,27,11],[24,35,24,58],[24,22,24,34],[27,18,27,19],[20,10,20,11],[24,0,24,5],[24,6,24,21],[22,22,22,34],[22,35,22,58],[23,0,23,5],[23,6,23,21],[23,22,23,34],[23,35,23,58],[20,22,20,23],[20,24,20,26],[20,28,20,45],[20,46,20,58],[20,16,20,21],[14,22,14,34],[17,30,17,31],[18,22,18,23],[18,24,18,26],[18,28,18,45],[19,24,19,26],[19,28,19,45],[13,35,13,58],[11,22,11,23],[11,24,11,26],[11,28,11,45],[11,46,11,58],[13,22,13,34],[19,46,19,58],[18,46,18,58],[17,53,17,54],[17,55,17,56],[17,57,17,58],[17,47,17,50],[17,51,17,52],[17,34,17,39],[19,16,19,17],[19,18,19,19],[18,20,18,21],[15,0,15,5],[15,6,15,21],[19,14,19,15],[19,20,19,21],[19,22,19,23],[17,43,17,44],[19,0,19,5],[19,6,19,7],[19,8,19,9],[19,10,19,11],[19,12,19,13],[14,0,14,5],[14,6,14,21],[13,6,13,21],[11,0,11,5],[11,6,11,7],[13,0,13,5],[18,16,18,17],[17,0,17,5],[17,6,17,11],[17,12,17,17],[18,12,18,13],[18,0,18,5],[11,16,11,17],[11,18,11,19],[11,10,11,11],[11,20,11,21],[11,12,11,13],[11,14,11,15],[10,6,10,7],[10,8,10,9],[10,10,10,11],[10,12,10,13],[17,21,17,26],[17,27,17,28],[17,40,17,41],[18,14,18,15],[10,20,10,21],[10,22,10,23],[18,6,18,7],[18,8,18,9],[18,10,18,11],[10,14,10,15],[10,16,10,17],[10,18,10,19],[18,18,18,19],[15,35,15,58],[15,22,15,34],[10,24,10,26],[10,28,10,45],[10,46,10,58],[14,35,14,58],[11,8,11,9],[10,0,10,5],[9,24,9,26],[9,16,9,17],[8,51,8,52],[9,0,9,5],[9,6,9,7],[9,8,9,9],[9,10,9,11],[8,40,8,41],[8,43,8,44],[8,47,8,50],[9,28,9,45],[8,0,8,5],[8,21,8,26],[8,6,8,11],[8,12,8,17],[9,12,9,13],[9,14,9,15],[9,18,9,19],[9,20,9,21],[9,22,9,23],[9,46,9,58],[8,53,8,54],[8,55,8,56],[8,57,8,58],[0,0,1,58],[2,0,2,23],[4,10,4,14],[4,15,4,20],[3,49,3,58],[2,25,2,48],[2,49,2,58],[4,21,4,48],[8,27,8,28],[8,30,8,31],[8,34,8,39],[6,47,6,48],[6,49,6,57],[6,7,6,11],[6,12,6,22],[6,23,6,24],[6,25,6,46]]}
["公益財団法人　日本リトルリーグ野球協会御中"]
[]
["　　　お世話に成ります。　　試合記録を報告します。",null,null,null,null,null,null,null,null,null,null,null,null,null,null,null,null,null,null,null,null,null,null,null,null,"試合日　平成 ２８年 ４月 ２４日(日)",null,null,null,null,null,null,null,null,null,null,null,null,null,null,null,null,null,null,null,null,null,null,null,"中南信ブロック事務局"]
[null,null,null,null,null,null,null,null,null,null,null,null,null,null,null,null,null,null,null,null,null,null,null,null,null,null,null,null,null,null,null,null,null,null,null,null,null,null,null,null,null,null,null,null,null,null,null,null,null,"柳原喜夫"]
[null,null,null,null,null,null,null,null,null,null,"大会名 ：",null,null,null,null,"２０１６年度",null,null,null,null,null,"信越連盟春季大会　中南信ブロック予選　（リーグ戦）"]
[]
[null,null,null,null,null,null,null,"開催地 ：",null,null,null,null,"安曇野",null,null,null,null,null,null,null,null,null,null,"市",null,"高家スポーツ広場",null,null,null,null,null,null,null,null,null,null,null,null,null,null,null,null,null,null,null,null,null,"Ｂ",null,"グラウンド"]
[]
["第三週",null,null,null,null,null,"回戦",null,null,null,null,null,"第一試合",null,null,null,null,null,null,null,null,"試合開始時間",null,null,null,null,null,8,null,"時",57,null,"分",null,"試合終了時間",null,null,null,null,null,11,null,"時",0,null,"分",null,"試合時間",null,null,null,2,null,"時間",null,3,null,"分"]
[null,null,null,null,null,null,1,null,2,null,3,null,4,null,5,null,6,null,7,null,8,null,9,null,"合　計",null,null,null,"投　　　　　　　　手",null,null,null,null,null,null,null,null,null,null,null,null,null,null,null,null,null,"捕　　　　　　　手"]
["豊科",null,null,null,null,null,0,null,0,null,0,null,5,null,2,null,0,null,null,null,null,null,null,null,{"$f":"SUM(G11:X11)","v":7},null,null,null,"下里・福岡",null,null,null,null,null,null,null,null,null,null,null,null,null,null,null,null,null,"清澤"]
["大町白馬",null,null,null,null,null,0,null,0,null,3,null,6,null,6,null,"Ｘ",null,null,null,null,null,null,null,{"$f":"SUM(G12:X12)","v":15},null,null,null,"遠藤・宮澤",null,null,null,null,null,null,null,null,null,null,null,null,null,null,null,null,null,"堀"]
[]
[null,null,null,null,null,null,"本　　塁　　打",null,null,null,null,null,null,null,null,null,null,null,null,null,null,null,"三　　塁　　打",null,null,null,null,null,null,null,null,null,null,null,null,"二　　　　塁　　　　打"]
[{"$f":"A11","v":"豊科"},null,null,null,null,null,null,null,null,null,null,null,null,null,null,null,null,null,null,null,null,null,"赤坂",null,null,null,null,null,null,null,null,null,null,null,null,"宮瀬・清澤"]
[{"$f":"A12","v":"大町白馬"},null,null,null,null,null,null,null,null,null,null,null,null,null,null,null,null,null,null,null,null,null,"平山（２）・花岡・遠藤",null,null,null,null,null,null,null,null,null,null,null,null,"平山・松澤"]
[]
["第三週",null,null,null,null,null,"回戦",null,null,null,null,null,"第二試合",null,null,null,null,null,null,null,null,"試合開始時間",null,null,null,null,null,11,null,"時",26,null,"分",null,"試合終了時間",null,null,null,null,null,13,null,"時",0,null,"分",null,"試合時間",null,null,null,1,null,"時間",null,34,null,"分"]
[null,null,null,null,null,null,1,null,2,null,3,null,4,null,5,null,6,null,7,null,8,null,9,null,"合　計",null,null,null,"投　　　　　　　　手",null,null,null,null,null,null,null,null,null,null,null,null,null,null,null,null,null,"捕　　　　　　　手"]
["三郷",null,null,null,null,null,0,null,0,null,4,null,1,null,null,null,null,null,null,null,null,null,null,null,{"$f":"SUM(G20:X20)","v":5},null,null,null,"中澤・酒井",null,null,null,null,null,null,null,null,null,null,null,null,null,null,null,null,null,"久保田勇利・古川"]
["安曇野穂高",null,null,null,null,null,3,null,6,null,5,null,2,"Ｘ",null,null,"４回コールド",null,null,null,null,null,null,null,{"$f":"SUM(G21:X21)","v":16},null,null,null,"鹿川堅守・南澤・平林大輝・坂井",null,null,null,null,null,null,null,null,null,null,null,null,null,null,null,null,null,"保科"]
[]
[null,null,null,null,null,null,"本　　塁　　打",null,null,null,null,null,null,null,null,null,null,null,null,null,null,null,"三　　塁　　打",null,null,null,null,null,null,null,null,null,null,null,null,"二　　　　塁　　　　打"]
[{"$f":"A20","v":"三郷"},null,null,null,null,null,null,null,null,null,null,null,null,null,null,null,null,null,null,null,null,null,null,null,null,null,null,null,null,null,null,null,null,null,null,"猪股・野本享佑"]
[{"$f":"A21","v":"安曇野穂高"},null,null,null,null,null,"前山・南澤・保科・寺嶋",null,null,null,null,null,null,null,null,null,null,null,null,null,null,null,"前山（２）・坂井",null,null,null,null,null,null,null,null,null,null,null,null,"吉原・平林大輝・市川"]
[]
["第三週",null,null,null,null,null,"回戦",null,null,null,null,null,"第三試合",null,null,null,null,null,null,null,null,"試合開始時間",null,null,null,null,null,13,null,"時",33,null,"分",null,"試合終了時間",null,null,null,null,null,14,null,"時",39,null,"分",null,"試合時間",null,null,null,1,null,"時間",null,6,null,"分"]
[null,null,null,null,null,null,1,null,2,null,3,null,4,null,5,null,6,null,7,null,8,null,9,null,"合　計",null,null,null,"投　　　　　　　　手",null,null,null,null,null,null,null,null,null,null,null,null,null,null,null,null,null,"捕　　　　　　　手"]
["三郷",null,null,null,null,null,0,null,1,null,0,null,0,null,null,null,null,null,null,null,null,null,null,null,{"$f":"SUM(G29:X29)","v":1},null,null,null,"猪股・小野・野本享佑",null,null,null,null,null,null,null,null,null,null,null,null,null,null,null,null,null,"久保田勇利"]
["堀金",null,null,null,null,null,2,null,0,null,14,null,"Ｘ",null,null,null,"４回コールド",null,null,null,null,null,null,null,{"$f":"SUM(G30:X30)","v":16},null,null,null,"丸山",null,null,null,null,null,null,null,null,null,null,null,null,null,null,null,null,null,"奥田"]
[]
[null,null,null,null,null,null,"本　　塁　　打",null,null,null,null,null,null,null,null,null,null,null,null,null,null,null,"三　　塁　　打",null,null,null,null,null,null,null,null,null,null,null,null,"二　　　　塁　　　　打"]
[{"$f":"A29","v":"三郷"}]
[{"$f":"A30","v":"堀金"},null,null,null,null,null,null,null,null,null,null,null,null,null,null,null,null,null,null,null,null,null,"奥田・岩倉",null,null,null,null,null,null,null,null,null,null,null,null,"唐澤・丸山・平林"]
["第三週",null,null,null,null,null,"回戦",null,null,null,null,null,"第四試合",null,null,null,null,null,null,null,null,"試合開始時間",null,null,null,null,null,14,null,"時",54,null,"分",null,"試合終了時間",null,null,null,null,null,16,null,"時",25,null,"分",null,"試合時間",null,null,null,1,null,"時間",null,31,null,"分"]
[null,null,null,null,null,null,1,null,2,null,3,null,4,null,5,null,6,null,7,null,8,null,9,null,"合　計",null,null,null,"投　　　　　　　　手",null,null,null,null,null,null,null,null,null,null,null,null,null,null,null,null,null,"捕　　　　　　　手"]
["大町白馬",null,null,null,null,null,1,null,0,null,0,null,0,null,0,null,0,null,null,null,null,null,null,null,{"$f":"SUM(G37:X37)","v":1},null,null,null,"太田創士・關",null,null,null,null,null,null,null,null,null,null,null,null,null,null,null,null,null,"堀"]
["安曇野穂高",null,null,null,null,null,3,null,2,null,2,null,0,null,0,null,"Ｘ",null,null,null,null,null,null,null,{"$f":"SUM(G38:X38)","v":7},null,null,null,"前山・寺嶋",null,null,null,null,null,null,null,null,null,null,null,null,null,null,null,null,null,"保科"]
[]
[null,null,null,null,null,null,"本　　塁　　打",null,null,null,null,null,null,null,null,null,null,null,null,null,null,null,"三　　塁　　打",null,null,null,null,null,null,null,null,null,null,null,null,"二　　　　塁　　　　打"]
[{"$f":"A37","v":"大町白馬"}]
[{"$f":"A38","v":"安曇野穂高"},null,null,null,null,null,null,null,null,null,null,null,null,null,null,null,null,null,null,null,null,null,null,null,null,null,null,null,null,null,null,null,null,null,null,"吉原・坂井"]
[]
["第週",null,null,null,null,null,"回戦",null,null,null,null,null,"第試合",null,null,null,null,null,null,null,null,"試合開始時間",null,null,null,null,null,null,null,"時",null,null,"分",null,"試合終了時間",null,null,null,null,null,null,null,"時",null,null,"分",null,"試合時間",null,null,null,null,null,"時間",null,null,null,"分"]
[null,null,null,null,null,null,1,null,2,null,3,null,4,null,5,null,6,null,7,null,8,null,9,null,"合　計",null,null,null,"投　　　　　　　　手",null,null,null,null,null,null,null,null,null,null,null,null,null,null,null,null,null,"捕　　　　　　　手"]
[null,null,null,null,null,null,null,null,null,null,null,null,null,null,null,null,null,null,null,null,null,null,null,null,{"$f":"SUM(G46:X46)","v":0}]
[null,null,null,null,null,null,null,null,null,null,null,null,null,null,null,null,null,null,null,null,null,null,null,null,{"$f":"SUM(G47:X47)","v":0}]
[]
[null,null,null,null,null,null,"本　　塁　　打",null,null,null,null,null,null,null,null,null,null,null,null,null,null,null,"三　　塁　　打",null,null,null,null,null,null,null,null,null,null,null,null,"二　　　　塁　　　　打"]
[{"$f":"A46","v":0}]
[{"$f":"A47","v":0}]
[]
["第日目",null,null,null,null,null,"回戦",null,null,null,null,null,"第試合",null,null,null,null,null,null,null,null,"試合開始時間",null,null,null,null,null,null,null,"時",null,null,"分",null,"試合終了時間",null,null,null,null,null,null,null,"時",null,null,"分",null,"試合時間",null,null,null,null,null,"時間",null,null,null,"分"]
[null,null,null,null,null,null,1,null,2,null,3,null,4,null,5,null,6,null,7,null,8,null,9,null,"合　計",null,null,null,"投　　　　　　　　手",null,null,null,null,null,null,null,null,null,null,null,null,null,null,null,null,null,"捕　　　　　　　手"]
[null,null,null,null,null,null,null,null,null,null,null,null,null,null,null,null,null,null,null,null,null,null,null,null,{"$f":"SUM(G55:X55)","v":0}]
[null,null,null,null,null,null,null,null,null,null,null,null,null,null,null,null,null,null,null,null,null,null,null,null,{"$f":"SUM(G56:X56)","v":0}]
[]
[null,null,null,null,null,null,"本　　塁　　打",null,null,null,null,null,null,null,null,null,null,null,null,null,null,null,"三　　塁　　打",null,null,null,null,null,null,null,null,null,null,null,null,"二　　　　塁　　　　打"]
[{"$f":"A55","v":0}]
[{"$f":"A56","v":0}]
[]
["第日目",null,null,null,null,null,"回戦",null,null,null,null,null,"第試合",null,null,null,null,null,null,null,null,"試合開始時間",null,null,null,null,null,null,null,"時",null,null,"分",null,"試合終了時間",null,null,null,null,null,null,null,"時",null,null,"分",null,"試合時間",null,null,null,null,null,"時間",null,null,null,"分"]
[null,null,null,null,null,null,1,null,2,null,3,null,4,null,5,null,6,null,7,null,8,null,9,null,"合　計",null,null,null,"投　　　　　　　　手",null,null,null,null,null,null,null,null,null,null,null,null,null,null,null,null,null,"捕　　　　　　　手"]
[null,null,null,null,null,null,null,null,null,null,null,null,null,null,null,null,null,null,null,null,null,null,null,null,{"$f":"SUM(G64:X64)","v":0}]
[null,null,null,null,null,null,null,null,null,null,null,null,null,null,null,null,null,null,null,null,null,null,null,null,{"$f":"SUM(G65:X65)","v":0}]
[]
[null,null,null,null,null,null,"本　　塁　　打",null,null,null,null,null,null,null,null,null,null,null,null,null,null,null,"三　　塁　　打",null,null,null,null,null,null,null,null,null,null,null,null,"二　　　　塁　　　　打"]
[{"$f":"A64","v":0}]
[{"$f":"A65","v":0}]

{"sheet":"星取表","index":3,"n_rows":32,"n_cols":63,"rows_kept":32,"cut":false,"hidden":false,"merged":[[0,0,0,1],[0,2,0,42],[0,43,0,49],[1,2,1,4],[1,5,1,7],[1,8,1,10],[1,11,1,13],[1,14,1,16],[1,17,1,19],[1,20,1,22],[1,49,2,49],[2,2,2,4],[2,5,2,7],[2,8,2,10],[2,11,2,13],[2,14,2,16],[2,17,2,19],[2,20,2,22],[2,23,2,25],[2,26,2,28],[1,41,2,41],[1,42,2,42],[1,43,2,43],[1,44,2,44],[1,45,2,45],[1,46,1,48],[1,23,1,25],[1,26,1,28],[1,29,1,31],[1,32,1,34],[1,35,1,37],[1,38,1,40],[2,29,2,31],[2,32,2,34],[2,35,2,37],[2,38,2,40],[3,0,4,0],[3,1,4,1],[3,2,4,4],[4,26,4,28],[4,29,4,31],[4,32,4,34],[3,47,4,47],[3,48,4,48],[3,49,4,49],[4,5,4,7],[4,8,4,10],[4,11,4,13],[4,14,4,16],[4,17,4,19],[4,20,4,22],[4,23,4,25],[3,41,4,41],[3,42,4,42],[3,43,4,43],[3,44,4,44],[3,45,4,45],[3,46,4,46],[4,35,4,37],[4,38,4,40],[5,0,6,0],[5,1,6,1],[5,5,6,7],[5,41,6,41],[6,29,6,31],[6,32,6,34],[6,35,6,37],[6,38,6,40],[5,48,6,48],[5,49,6,49],[6,2,6,4],[6,8,6,10],[6,11,6,13],[6,14,6,16],[6,17,6,19],[6,20,6,22],[6,23,6,25],[6,26,6,28],[5,42,6,42],[5,43,6,43],[5,44,6,44],[5,45,6,45],[5,46,6,46],[5,47,6,47],[7,44,8,44],[7,45,8,45],[7,46,8,46],[7,47,8,47],[7,48,8,48],[7,49,8,49],[7,0,8,0],[7,1,8,1],[7,8,8,10],[7,41,8,41],[7,42,8,42],[7,43,8,43],[8,2,8,4],[8,5,8,7],[8,11,8,13],[8,14,8,16],[8,35,8,37],[8,38,8,40],[9,0,10,0],[9,1,10,1],[9,11,10,13],[9,41,10,41],[10,29,10,31],[10,32,10,34],[10,35,10,37],[10,38,10,40],[8,17,8,19],[8,20,8,22],[8,23,8,25],[8,26,8,28],[8,29,8,31],[8,32,8,34],[9,48,10,48],[9,49,10,49],[10,2,10,4],[10,5,10,7],[10,8,10,10],[10,14,10,16],[10,17,10,19],[10,20,10,22],[10,23,10,25],[10,26,10,28],[9,42,10,42],[9,43,10,43],[9,44,10,44],[9,45,10,45],[9,46,10,46],[9,47,10,47],[11,44,12,44],[11,45,12,45],[11,46,12,46],[11,47,12,47],[11,48,12,48],[11,49,12,49],[11,0,12,0],[11,1,12,1],[11,14,12,16],[11,41,12,41],[11,42,12,42],[11,43,12,43],[12,2,12,4],[12,5,12,7],[12,8,12,10],[12,11,12,13],[12,35,12,37],[12,38,12,40],[13,0,14,0],[13,1,14,1],[13,17,14,19],[13,41,14,41],[14,29,14,31],[14,32,14,34],[14,35,14,37],[14,38,14,40],[12,17,12,19],[12,20,12,22],[12,23,12,25],[12,26,12,28],[12,29,12,31],[12,32,12,34],[13,48,14,48],[13,49,14,49],[14,2,14,4],[14,5,14,7],[14,8,14,10],[14,11,14,13],[14,14,14,16],[14,20,14,22],[14,23,14,25],[14,26,14,28],[13,42,14,42],[13,43,14,43],[13,44,14,44],[13,45,14,45],[13,46,14,46],[13,47,14,47],[15,44,16,44],[15,45,16,45],[15,46,16,46],[15,47,16,47],[15,48,16,48],[15,49,16,49],[15,0,16,0],[15,1,16,1],[15,20,16,22],[15,41,16,41],[15,42,16,42],[15,43,16,43],[16,2,16,4],[16,5,16,7],[16,8,16,10],[16,11,16,13],[16,35,16,37],[16,38,16,40],[17,0,18,0],[17,1,18,1],[17,23,18,25],[17,41,18,41],[18,29,18,31],[18,32,18,34],[18,35,18,37],[18,38,18,40],[16,14,16,16],[16,17,16,19],[16,23,16,25],[16,26,16,28],[16,29,16,31],[16,32,16,34],[17,48,18,48],[17,49,18,49],[18,2,18,4],[18,5,18,7],[18,8,18,10],[18,11,18,13],[18,14,18,16],[18,17,18,19],[18,20,18,22],[18,26,18,28],[17,42,18,42],[17,43,18,43],[17,44,18,44],[17,45,18,45],[17,46,18,46],[17,47,18,47],[19,44,20,44],[19,45,20,45],[19,46,20,46],[19,47,20,47],[19,48,20,48],[19,49,20,49],[19,0,20,0],[19,1,20,1],[19,26,20,28],[19,41,20,41],[19,42,20,42],[19,43,20,43],[20,2,20,4],[20,5,20,7],[20,8,20,10],[20,11,20,13],[20,35,20,37],[20,38,20,40],[21,0,22,0],[21,1,22,1],[21,29,22,31],[21,41,22,41],[22,26,22,28],[22,32,22,34],[22,35,22,37],[22,38,22,40],[20,14,20,16],[20,17,20,19],[20,20,20,22],[20,23,20,25],[20,29,20,31],[20,32,20,34],[21,48,22,48],[21,49,22,49],[22,2,22,4],[22,5,22,7],[22,8,22,10],[22,11,22,13],[22,14,22,16],[22,17,22,19],[22,20,22,22],[22,23,22,25],[21,42,22,42],[21,43,22,43],[21,44,22,44],[21,45,22,45],[21,46,22,46],[21,47,22,47],[23,44,24,44],[23,45,24,45],[23,46,24,46],[23,47,24,47],[23,48,24,48],[23,49,24,49],[23,0,24,0],[23,1,24,1],[23,32,24,34],[23,41,24,41],[23,42,24,42],[23,43,24,43],[24,2,24,4],[24,5,24,7],[24,8,24,10],[24,11,24,13],[24,35,24,37],[24,38,24,40],[25,0,26,0],[25,1,26,1],[25,35,26,37],[25,41,26,41],[26,26,26,28],[26,29,26,31],[26,32,26,34],[26,38,26,40],[24,14,24,16],[24,17,24,19],[24,20,24,22],[24,23,24,25],[24,26,24,28],[24,29,24,31],[25,48,26,48],[25,49,26,49],[26,2,26,4],[26,5,26,7],[26,8,26,10],[26,11,26,13],[26,14,26,16],[26,17,26,19],[26,20,26,22],[26,23,26,25],[25,42,26,42],[25,43,26,43],[25,44,26,44],[25,45,26,45],[25,46,26,46],[25,47,26,47],[27,44,28,44],[27,45,28,45],[27,46,28,46],[27,47,28,47],[27,48,28,48],[27,49,28,49],[27,0,28,0],[27,1,28,1],[27,38,28,40],[27,41,28,41],[27,42,28,42],[27,43,28,43],[28,2,28,4],[28,5,28,7],[28,8,28,10],[28,11,28,13],[29,26,29,28],[29,29,29,31],[29,32,29,34],[29,35,29,37],[29,38,29,40],[28,32,28,34],[28,35,28,37],[29,2,29,4],[29,5,29,7],[29,8,29,10],[29,11,29,13],[29,14,29,16],[29,17,29,19],[29,20,29,22],[29,23,29,25],[28,14,28,16],[28,17,28,19],[28,20,28,22],[28,23,28,25],[28,26,28,28],[28,29,28,31]]}
["星取り表",null,"２０１４年度リトルリーグ信越連盟春季大会中南信ブロック予選成績表",null,null,null,null,null,null,null,null,null,null,null,null,null,null,null,null,null,null,null,null,null,null,null,null,null,null,null,null,null,null,null,null,null,null,null,null,null,null,null,null,"（　○勝　・　●負　・　△分　）"]
[null,"記号","A",null,null,"B",null,null,"C",null,null,"D",null,null,"E",null,null,"F",null,null,"G",null,null,"H",null,null,"I",null,null,"J",null,null,"K",null,null,"L",null,null,"M",null,null,"勝数","負数","分数","勝点","勝　　　　　率","得　失　点　差",null,null,"順位",null,null,null,null,null,null,"①","②",null,null,"③","④","⑤"]
["記号","リーグ名",{"$f":"B4","v":"波　田"},null,null,{"$f":"B6","v":"豊　科"},null,null,"大町　白馬",null,null,{"$f":"B10","v":"松本南"},null,null,{"$f":"B12","v":"三　郷"},null,null,{"$f":"B14","v":"松本北"},null,null,{"$f":"B16","v":"堀　金"},null,null,{"$f":"B18","v":"飯　田"},null,null,"安曇野穂高",null,null,{"$f":"B22","v":"塩　尻"},null,null,{"$f":"B24","v":""},null,null,{"$f":"B26","v":""},null,null,{"$f":"B28","v":""},null,null,null,null,null,null,null,"得","失","差",null,null,null,null,null,null,"チーム\n記号","勝点","勝率","同順","確定順位","直接\n勝敗","直接\n失点","全試合\n失点"]
["A",{"$f":"IF(ISBLANK(組合せ表!V4),\"\",組合せ表!V4)","v":"波　田"},null,null,null,{"$f":"IF(ISBLANK(組合せ表!$E$29),\"\",組合せ表!$E$29)","v":""},"：",{"$f":"IF(ISBLANK(組合せ表!$G$29),\"\",組合せ表!$G$29)","v":""},{"$f":"IF(ISBLANK(組合せ表!$J$25),\"\",組合せ表!$J$25)","v":""},"：",{"$f":"IF(ISBLANK(組合せ表!$L$25),\"\",組合せ表!$L$25)","v":""},{"$f":"IF(ISBLANK(組合せ表!$E$22),\"\",組合せ表!$E$22)","v":""},"：",{"$f":"IF(ISBLANK(組合せ表!$G$22),\"\",組合せ表!$G$22)","v":""},{"$f":"IF(ISBLANK(組合せ表!$G$20),\"\",組合せ表!$G$20)","v":""},"：",{"$f":"IF(ISBLANK(組合せ表!$E$20),\"\",組合せ表!$E$20)","v":""},{"$f":"IF(ISBLANK(組合せ表!$G$17),\"\",組合せ表!$G$17)","v":10},"：",{"$f":"IF(ISBLANK(組合せ表!$E$17),\"\",組合せ表!$E$17)","v":0},{"$f":"IF(ISBLANK(組合せ表!$E$11),\"\",組合せ表!$E$11)","v":""},"：",{"$f":"IF(ISBLANK(組合せ表!$G$11),\"\",組合せ表!$G$11)","v":""},{"$f":"IF(ISBLANK(組合せ表!$G$10),\"\",組合せ表!$G$10)","v":""},"：",{"$f":"IF(ISBLANK(組合せ表!$E$10),\"\",組合せ表!$E$10)","v":""},{"$f":"IF(ISBLANK(組合せ表!$L$7),\"\",組合せ表!$L$7)","v":0},"：",{"$f":"IF(ISBLANK(組合せ表!$J$7),\"\",組合せ表!$J$7)","v":9},{"$f":"IF(ISBLANK(組合せ表!$E$4),\"\",組合せ表!$E$4)","v":9},"：",{"$f":"IF(ISBLANK(組合せ表!$G$4),\"\",組合せ表!$G$4)","v":0},null,"：",null,null,"：",null,null,"：",null,{"$f":"COUNTIF(C5:AM5,\"○\")","v":2},{"$f":"COUNTIF(C5:AM5,\"●\")","v":1},{"$f":"COUNTIF(C5:AM5,\"△\")","v":0},{"$f":"(AP4*3)+AR4","v":6},{"$f":"IF(AP4+AQ4>0,AP4/(AP4+AQ4),0)","v":0.66666666666666663},{"$f":"SUM(C4,F4,I4,L4,O4,R4,U4,X4,AA4,AD4,AG4,AJ4,AM4)","v":19},{"$f":"SUM(E4,H4,K4,N4,Q4,T4,W4,Z4,AC4,AF4,AI4,AL4,AO4)","v":9},{"$f":"AU4-AV4","v":10},3,{"$f":"B4","v":"波　田"},"A",null,null,4,{"$f":"$A$18","v":"H"},{"$f":"$AS$18","v":12},{"$f":"$AT$18","v":1},1,"I",0,0,8]
[null,null,null,null,null,{"$f":"IF(F4=\"\",\"\",IF(F4>H4,\"○\",IF(F4<H4,\"●\",IF(F4=H4,\"△\"))))","v":""},null,null,{"$f":"IF(I4=\"\",\"\",IF(I4>K4,\"○\",IF(I4<K4,\"●\",IF(I4=K4,\"△\"))))","v":""},null,null,{"$f":"IF(L4=\"\",\"\",IF(L4>N4,\"○\",IF(L4<N4,\"●\",IF(L4=N4,\"△\"))))","v":""},null,null,{"$f":"IF(O4=\"\",\"\",IF(O4>Q4,\"○\",IF(O4<Q4,\"●\",IF(O4=Q4,\"△\"))))","v":""},null,null,{"$f":"IF(R4=\"\",\"\",IF(R4>T4,\"○\",IF(R4<T4,\"●\",IF(R4=T4,\"△\"))))","v":"○"},null,null,{"$f":"IF(U4=\"\",\"\",IF(U4>W4,\"○\",IF(U4<W4,\"●\",IF(U4=W4,\"△\"))))","v":""},null,null,{"$f":"IF(X4=\"\",\"\",IF(X4>Z4,\"○\",IF(X4<Z4,\"●\",IF(X4=Z4,\"△\"))))","v":""},null,null,{"$f":"IF(AA4=\"\",\"\",IF(AA4>AC4,\"○\",IF(AA4<AC4,\"●\",IF(AA4=AC4,\"△\"))))","v":"●"},null,null,{"$f":"IF(AD4=\"\",\"\",IF(AD4>AF4,\"○\",IF(AD4<AF4,\"●\",IF(AD4=AF4,\"△\"))))","v":"○"},null,null,{"$f":"IF(AG4=\"\",\"\",IF(AG4>AI4,\"○\",IF(AG4<AI4,\"●\",IF(AG4=AI4,\"△\"))))","v":""},null,null,{"$f":"IF(AJ4=\"\",\"\",IF(AJ4>AL4,\"○\",IF(AJ4<AL4,\"●\",IF(AJ4=AL4,\"△\"))))","v":""},null,null,{"$f":"IF(AM4=\"\",\"\",IF(AM4>AO4,\"○\",IF(AM4<AO4,\"●\",IF(AM4=AO4,\"△\"))))","v":""},null,null,null,null,null,null,null,null,null,null,null,null,null,null,null,{"$f":"BC4+2","v":6},{"$f":"$A$20","v":"I"},{"$f":"$AS$20","v":12},{"$f":"$AT$20","v":1},1,"H",0,0,16]
["B",{"$f":"IF(ISBLANK(組合せ表!V5),\"\",組合せ表!V5)","v":"豊　科"},{"$f":"H4","v":""},"：",{"$f":"F4","v":""},null,null,null,{"$f":"IF(ISBLANK(組合せ表!$J$14),\"\",組合せ表!$J$14)","v":7},"：",{"$f":"IF(ISBLANK(組合せ表!$L$14),\"\",組合せ表!$L$14)","v":15},{"$f":"IF(ISBLANK(組合せ表!$E$27),\"\",組合せ表!$E$27)","v":""},"：",{"$f":"IF(ISBLANK(組合せ表!$G$27),\"\",組合せ表!$G$27)","v":""},{"$f":"IF(ISBLANK(組合せ表!$E$12),\"\",組合せ表!$E$12)","v":""},"：",{"$f":"IF(ISBLANK(組合せ表!$G$12),\"\",組合せ表!$G$12)","v":""},{"$f":"IF(ISBLANK(組合せ表!$G$25),\"\",組合せ表!$G$25)","v":""},"：",{"$f":"IF(ISBLANK(組合せ表!$E$25),\"\",組合せ表!$E$25)","v":""},{"$f":"IF(ISBLANK(組合せ表!$L$6),\"\",組合せ表!$L$6)","v":10},"：",{"$f":"IF(ISBLANK(組合せ表!$J$6),\"\",組合せ表!$J$6)","v":4},{"$f":"IF(ISBLANK(組合せ表!$L$20),\"\",組合せ表!$L$20)","v":""},"：",{"$f":"IF(ISBLANK(組合せ表!$J$20),\"\",組合せ表!$J$20)","v":""},{"$f":"IF(ISBLANK(組合せ表!$J$4),\"\",組合せ表!$J$4)","v":2},"：",{"$f":"IF(ISBLANK(組合せ表!$L$4),\"\",組合せ表!$L$4)","v":9},{"$f":"IF(ISBLANK(組合せ表!$J$22),\"\",組合せ表!$J$22)","v":""},"：",{"$f":"IF(ISBLANK(組合せ表!$L$22),\"\",組合せ表!$L$22)","v":""},null,"：",null,null,"：",null,null,"：",null,{"$f":"COUNTIF(C7:AM7,\"○\")","v":1},{"$f":"COUNTIF(C7:AM7,\"●\")","v":2},{"$f":"COUNTIF(C7:AM7,\"△\")","v":0},{"$f":"(AP6*3)+AR6","v":3},{"$f":"IF(AP6+AQ6>0,AP6/(AP6+AQ6),0)","v":0.33333333333333331},{"$f":"SUM(C6,F6,I6,L6,O6,R6,U6,X6,AA6,AD6,AG6,AJ6,AM6)","v":19},{"$f":"SUM(E6,H6,K6,N6,Q6,T6,W6,Z6,AC6,AF6,AI6,AL6,AO6)","v":28},{"$f":"AU6-AV6","v":-9},7,{"$f":"B6","v":"豊　科"},"B",null,null,{"$f":"BC5+2","v":8},{"$f":"$A$4","v":"A"},{"$f":"$AS$4","v":6},{"$f":"$AT$4","v":0.66666666666666663},2,"A",0,0,4]
[null,null,{"$f":"IF(C6=\"\",\"\",IF(C6>E6,\"○\",IF(C6<E6,\"●\",IF(C6=E6,\"△\"))))","v":""},null,null,null,null,null,{"$f":"IF(I6=\"\",\"\",IF(I6>K6,\"○\",IF(I6<K6,\"●\",IF(I6=K6,\"△\"))))","v":"●"},null,null,{"$f":"IF(L6=\"\",\"\",IF(L6>N6,\"○\",IF(L6<N6,\"●\",IF(L6=N6,\"△\"))))","v":""},null,null,{"$f":"IF(O6=\"\",\"\",IF(O6>Q6,\"○\",IF(O6<Q6,\"●\",IF(O6=Q6,\"△\"))))","v":""},null,null,{"$f":"IF(R6=\"\",\"\",IF(R6>T6,\"○\",IF(R6<T6,\"●\",IF(R6=T6,\"△\"))))","v":""},null,null,{"$f":"IF(U6=\"\",\"\",IF(U6>W6,\"○\",IF(U6<W6,\"●\",IF(U6=W6,\"△\"))))","v":"○"},null,null,{"$f":"IF(X6=\"\",\"\",IF(X6>Z6,\"○\",IF(X6<Z6,\"●\",IF(X6=Z6,\"△\"))))","v":""},null,null,{"$f":"IF(AA6=\"\",\"\",IF(AA6>AC6,\"○\",IF(AA6<AC6,\"●\",IF(AA6=AC6,\"△\"))))","v":"●"},null,null,{"$f":"IF(AD6=\"\",\"\",IF(AD6>AF6,\"○\",IF(AD6<AF6,\"●\",IF(AD6=AF6,\"△\"))))","v":""},null,null,{"$f":"IF(AG6=\"\",\"\",IF(AG6>AI6,\"○\",IF(AG6<AI6,\"●\",IF(AG6=AI6,\"△\"))))","v":""},null,null,{"$f":"IF(AJ6=\"\",\"\",IF(AJ6>AL6,\"○\",IF(AJ6<AL6,\"●\",IF(AJ6=AL6,\"△\"))))","v":""},null,null,{"$f":"IF(AM6=\"\",\"\",IF(AM6>AO6,\"○\",IF(AM6<AO6,\"●\",IF(AM6=AO6,\"△\"))))","v":""},null,null,null,null,null,null,null,null,null,null,null,null,null,null,null,10,{"$f":"$A$10","v":"D"},{"$f":"$AS$10","v":4},{"$f":"$AT$10","v":0.5},3,"D",0,0,9]
["C",{"$f":"IF(ISBLANK(組合せ表!V6),\"\",組合せ表!V6)","v":"大　　町白　　馬"},{"$f":"K4","v":""},"：",{"$f":"I4","v":""},{"$f":"K6","v":15},"：",{"$f":"I6","v":7},null,null,null,{"$f":"IF(ISBLANK(組合せ表!$L$11),\"\",組合せ表!$L$11)","v":""},"：",{"$f":"IF(ISBLANK(組合せ表!$J$11),\"\",組合せ表!$J$11)","v":""},{"$f":"IF(ISBLANK(組合せ表!$E$21),\"\",組合せ表!$E$21)","v":""},"：",{"$f":"IF(ISBLANK(組合せ表!$G$21),\"\",組合せ表!$G$21)","v":""},{"$f":"IF(ISBLANK(組合せ表!$J$10),\"\",組合せ表!$J$10)","v":""},"：",{"$f":"IF(ISBLANK(組合せ表!$L$10),\"\",組合せ表!$L$10)","v":""},{"$f":"IF(ISBLANK(組合せ表!$G$19),\"\",組合せ表!$G$19)","v":""},"：",{"$f":"IF(ISBLANK(組合せ表!$E$19),\"\",組合せ表!$E$19)","v":""},{"$f":"IF(ISBLANK(組合せ表!$G$5),\"\",組合せ表!$G$5)","v":1},"：",{"$f":"IF(ISBLANK(組合せ表!$E$5),\"\",組合せ表!$E$5)","v":6},{"$f":"IF(ISBLANK(組合せ表!$J$17),\"\",組合せ表!$J$17)","v":1},"：",{"$f":"IF(ISBLANK(組合せ表!$L$17),\"\",組合せ表!$L$17)","v":7},{"$f":"IF(ISBLANK(組合せ表!$E$30),\"\",組合せ表!$E$30)","v":""},"：",{"$f":"IF(ISBLANK(組合せ表!$G$30),\"\",組合せ表!$G$30)","v":""},null,"：",null,null,"：",null,null,"：",null,{"$f":"COUNTIF(C9:AM9,\"○\")","v":1},{"$f":"COUNTIF(C9:AM9,\"●\")","v":2},{"$f":"COUNTIF(C9:AM9,\"△\")","v":0},{"$f":"(AP8*3)+AR8","v":3},{"$f":"IF(AP8+AQ8>0,AP8/(AP8+AQ8),0)","v":0.33333333333333331},{"$f":"SUM(C8,F8,I8,L8,O8,R8,U8,X8,AA8,AD8,AG8,AJ8,AM8)","v":17},{"$f":"SUM(E8,H8,K8,N8,Q8,T8,W8,Z8,AC8,AF8,AI8,AL8,AO8)","v":20},{"$f":"AU8-AV8","v":-3},5,{"$f":"B8","v":"大　　町白　　馬"},"C",null,null,12,{"$f":"$A$12","v":"E"},{"$f":"$AS$12","v":3},{"$f":"$AT$12","v":0.33333333333333331},4,"C",3,7,20]
[null,null,{"$f":"IF(C8=\"\",\"\",IF(C8>E8,\"○\",IF(C8<E8,\"●\",IF(C8=E8,\"△\"))))","v":""},null,null,{"$f":"IF(F8=\"\",\"\",IF(F8>H8,\"○\",IF(F8<H8,\"●\",IF(F8=H8,\"△\"))))","v":"○"},null,null,null,null,null,{"$f":"IF(L8=\"\",\"\",IF(L8>N8,\"○\",IF(L8<N8,\"●\",IF(L8=N8,\"△\"))))","v":""},null,null,{"$f":"IF(O8=\"\",\"\",IF(O8>Q8,\"○\",IF(O8<Q8,\"●\",IF(O8=Q8,\"△\"))))","v":""},null,null,{"$f":"IF(R8=\"\",\"\",IF(R8>T8,\"○\",IF(R8<T8,\"●\",IF(R8=T8,\"△\"))))","v":""},null,null,{"$f":"IF(U8=\"\",\"\",IF(U8>W8,\"○\",IF(U8<W8,\"●\",IF(U8=W8,\"△\"))))","v":""},null,null,{"$f":"IF(X8=\"\",\"\",IF(X8>Z8,\"○\",IF(X8<Z8,\"●\",IF(X8=Z8,\"△\"))))","v":"●"},null,null,{"$f":"IF(AA8=\"\",\"\",IF(AA8>AC8,\"○\",IF(AA8<AC8,\"●\",IF(AA8=AC8,\"△\"))))","v":"●"},null,null,{"$f":"IF(AD8=\"\",\"\",IF(AD8>AF8,\"○\",IF(AD8<AF8,\"●\",IF(AD8=AF8,\"△\"))))","v":""},null,null,{"$f":"IF(AG8=\"\",\"\",IF(AG8>AI8,\"○\",IF(AG8<AI8,\"●\",IF(AG8=AI8,\"△\"))))","v":""},null,null,{"$f":"IF(AJ8=\"\",\"\",IF(AJ8>AL8,\"○\",IF(AJ8<AL8,\"●\",IF(AJ8=AL8,\"△\"))))","v":""},null,null,{"$f":"IF(AM8=\"\",\"\",IF(AM8>AO8,\"○\",IF(AM8<AO8,\"●\",IF(AM8=AO8,\"△\"))))","v":""},null,null,null,null,null,null,null,null,null,null,null,null,null,null,null,14,{"$f":"$A$8","v":"C"},{"$f":"$AS$8","v":3},{"$f":"$AT$8","v":0.33333333333333331},4,"G",3,11,20]
["D",{"$f":"IF(ISBLANK(組合せ表!V7),\"\",組合せ表!V7)","v":"松本南"},{"$f":"N4","v":""},"：",{"$f":"L4","v":""},{"$f":"N6","v":""},"：",{"$f":"L6","v":""},{"$f":"N8","v":""},"：",{"$f":"L8","v":""},null,null,null,{"$f":"IF(ISBLANK(組合せ表!$L$9),\"\",組合せ表!$L$9)","v":""},"：",{"$f":"IF(ISBLANK(組合せ表!$J$9),\"\",組合せ表!$J$9)","v":""},{"$f":"IF(ISBLANK(組合せ表!$J$19),\"\",組合せ表!$J$19)","v":""},"：",{"$f":"IF(ISBLANK(組合せ表!$L$19),\"\",組合せ表!$L$19)","v":""},{"$f":"IF(ISBLANK(組合せ表!$J$5),\"\",組合せ表!$J$5)","v":9},"：",{"$f":"IF(ISBLANK(組合せ表!$L$5),\"\",組合せ表!$L$5)","v":4},{"$f":"IF(ISBLANK(組合せ表!$E$16),\"\",組合せ表!$E$16)","v":4},"：",{"$f":"IF(ISBLANK(組合せ表!$G$16),\"\",組合せ表!$G$16)","v":15},{"$f":"IF(ISBLANK(組合せ表!$J$30),\"\",組合せ表!$J$30)","v":""},"：",{"$f":"IF(ISBLANK(組合せ表!$L$30),\"\",組合せ表!$L$30)","v":""},{"$f":"IF(ISBLANK(組合せ表!$G$15),\"\",組合せ表!$G$15)","v":6},"：",{"$f":"IF(ISBLANK(組合せ表!$E$15),\"\",組合せ表!$E$15)","v":6},null,"：",null,null,"：",null,null,"：",null,{"$f":"COUNTIF(C11:AM11,\"○\")","v":1},{"$f":"COUNTIF(C11:AM11,\"●\")","v":1},{"$f":"COUNTIF(C11:AM11,\"△\")","v":1},{"$f":"(AP10*3)+AR10","v":4},{"$f":"IF(AP10+AQ10>0,AP10/(AP10+AQ10),0)","v":0.5},{"$f":"SUM(C10,F10,I10,L10,O10,R10,U10,X10,AA10,AD10,AG10,AJ10,AM10)","v":19},{"$f":"SUM(E10,H10,K10,N10,Q10,T10,W10,Z10,AC10,AF10,AI10,AL10,AO10)","v":25},{"$f":"AU10-AV10","v":-6},4,{"$f":"B10","v":"松本南"},"D",null,null,16,{"$f":"$A$6","v":"B"},{"$f":"$AS$6","v":3},{"$f":"$AT$6","v":0.33333333333333331},4,"B",3,19,28]
[null,null,{"$f":"IF(C10=\"\",\"\",IF(C10>E10,\"○\",IF(C10<E10,\"●\",IF(C10=E10,\"△\"))))","v":""},null,null,{"$f":"IF(F10=\"\",\"\",IF(F10>H10,\"○\",IF(F10<H10,\"●\",IF(F10=H10,\"△\"))))","v":""},null,null,{"$f":"IF(I10=\"\",\"\",IF(I10>K10,\"○\",IF(I10<K10,\"●\",IF(I10=K10,\"△\"))))","v":""},null,null,null,null,null,{"$f":"IF(O10=\"\",\"\",IF(O10>Q10,\"○\",IF(O10<Q10,\"●\",IF(O10=Q10,\"△\"))))","v":""},null,null,{"$f":"IF(R10=\"\",\"\",IF(R10>T10,\"○\",IF(R10<T10,\"●\",IF(R10=T10,\"△\"))))","v":""},null,null,{"$f":"IF(U10=\"\",\"\",IF(U10>W10,\"○\",IF(U10<W10,\"●\",IF(U10=W10,\"△\"))))","v":"○"},null,null,{"$f":"IF(X10=\"\",\"\",IF(X10>Z10,\"○\",IF(X10<Z10,\"●\",IF(X10=Z10,\"△\"))))","v":"●"},null,null,{"$f":"IF(AA10=\"\",\"\",IF(AA10>AC10,\"○\",IF(AA10<AC10,\"●\",IF(AA10=AC10,\"△\"))))","v":""},null,null,{"$f":"IF(AD10=\"\",\"\",IF(AD10>AF10,\"○\",IF(AD10<AF10,\"●\",IF(AD10=AF10,\"△\"))))","v":"△"},null,null,{"$f":"IF(AG10=\"\",\"\",IF(AG10>AI10,\"○\",IF(AG10<AI10,\"●\",IF(AG10=AI10,\"△\"))))","v":""},null,null,{"$f":"IF(AJ10=\"\",\"\",IF(AJ10>AL10,\"○\",IF(AJ10<AL10,\"●\",IF(AJ10=AL10,\"△\"))))","v":""},null,null,{"$f":"IF(AM10=\"\",\"\",IF(AM10>AO10,\"○\",IF(AM10<AO10,\"●\",IF(AM10=AO10,\"△\"))))","v":""},null,null,null,null,null,null,null,null,null,null,null,null,null,null,null,18,{"$f":"$A$16","v":"G"},{"$f":"$AS$16","v":3},{"$f":"$AT$16","v":0.33333333333333331},4,"E",0,16,36]
["E",{"$f":"IF(ISBLANK(組合せ表!V8),\"\",組合せ表!V8)","v":"三　郷"},{"$f":"Q4","v":""},"：",{"$f":"O4","v":""},{"$f":"Q6","v":""},"：",{"$f":"O6","v":""},{"$f":"Q8","v":""},"：",{"$f":"O8","v":""},{"$f":"Q10","v":""},"：",{"$f":"O10","v":""},null,null,null,{"$f":"IF(ISBLANK(組合せ表!$E$6),\"\",組合せ表!$E$6)","v":5},"：",{"$f":"IF(ISBLANK(組合せ表!$G$6),\"\",組合せ表!$G$6)","v":4},{"$f":"IF(ISBLANK(組合せ表!$J$16),\"\",組合せ表!$J$16)","v":1},"：",{"$f":"IF(ISBLANK(組合せ表!$L$16),\"\",組合せ表!$L$16)","v":16},{"$f":"IF(ISBLANK(組合せ表!$G$31),\"\",組合せ表!$G$31)","v":""},"：",{"$f":"IF(ISBLANK(組合せ表!$E$31),\"\",組合せ表!$E$31)","v":""},{"$f":"IF(ISBLANK(組合せ表!$L$15),\"\",組合せ表!$L$15)","v":5},"：",{"$f":"IF(ISBLANK(組合せ表!$J$15),\"\",組合せ表!$J$15)","v":16},{"$f":"IF(ISBLANK(組合せ表!$J$24),\"\",組合せ表!$J$24)","v":""},"：",{"$f":"IF(ISBLANK(組合せ表!$L$24),\"\",組合せ表!$L$24)","v":""},null,"：",null,null,"：",null,null,"：",null,{"$f":"COUNTIF(C13:AM13,\"○\")","v":1},{"$f":"COUNTIF(C13:AM13,\"●\")","v":2},{"$f":"COUNTIF(C13:AM13,\"△\")","v":0},{"$f":"(AP12*3)+AR12","v":3},{"$f":"IF(AP12+AQ12>0,AP12/(AP12+AQ12),0)","v":0.33333333333333331},{"$f":"SUM(C12,F12,I12,L12,O12,R12,U12,X12,AA12,AD12,AG12,AJ12,AM12)","v":11},{"$f":"SUM(E12,H12,K12,N12,Q12,T12,W12,Z12,AC12,AF12,AI12,AL12,AO12)","v":36},{"$f":"AU12-AV12","v":-25},8,{"$f":"B12","v":"三　郷"},"E",null,null,20,{"$f":"$A$22","v":"J"},{"$f":"$AS$22","v":1},{"$f":"$AT$22","v":0},5,"J",0,0,19]
[null,null,{"$f":"IF(C12=\"\",\"\",IF(C12>E12,\"○\",IF(C12<E12,\"●\",IF(C12=E12,\"△\"))))","v":""},null,null,{"$f":"IF(F12=\"\",\"\",IF(F12>H12,\"○\",IF(F12<H12,\"●\",IF(F12=H12,\"△\"))))","v":""},null,null,{"$f":"IF(I12=\"\",\"\",IF(I12>K12,\"○\",IF(I12<K12,\"●\",IF(I12=K12,\"△\"))))","v":""},null,null,{"$f":"IF(L12=\"\",\"\",IF(L12>N12,\"○\",IF(L12<N12,\"●\",IF(L12=N12,\"△\"))))","v":""},null,null,null,null,null,{"$f":"IF(R12=\"\",\"\",IF(R12>T12,\"○\",IF(R12<T12,\"●\",IF(R12=T12,\"△\"))))","v":"○"},null,null,{"$f":"IF(U12=\"\",\"\",IF(U12>W12,\"○\",IF(U12<W12,\"●\",IF(U12=W12,\"△\"))))","v":"●"},null,null,{"$f":"IF(X12=\"\",\"\",IF(X12>Z12,\"○\",IF(X12<Z12,\"●\",IF(X12=Z12,\"△\"))))","v":""},null,null,{"$f":"IF(AA12=\"\",\"\",IF(AA12>AC12,\"○\",IF(AA12<AC12,\"●\",IF(AA12=AC12,\"△\"))))","v":"●"},null,null,{"$f":"IF(AD12=\"\",\"\",IF(AD12>AF12,\"○\",IF(AD12<AF12,\"●\",IF(AD12=AF12,\"△\"))))","v":""},null,null,{"$f":"IF(AG12=\"\",\"\",IF(AG12>AI12,\"○\",IF(AG12<AI12,\"●\",IF(AG12=AI12,\"△\"))))","v":""},null,null,{"$f":"IF(AJ12=\"\",\"\",IF(AJ12>AL12,\"○\",IF(AJ12<AL12,\"●\",IF(AJ12=AL12,\"△\"))))","v":""},null,null,{"$f":"IF(AM12=\"\",\"\",IF(AM12>AO12,\"○\",IF(AM12<AO12,\"●\",IF(AM12=AO12,\"△\"))))","v":""},null,null,null,null,null,null,null,null,null,null,null,null,null,null,null,22,{"$f":"$A$14","v":"F"},{"$f":"$AS$14","v":0},{"$f":"$AT$14","v":0},6,"F",0,0,32]
["F",{"$f":"IF(ISBLANK(組合せ表!V9),\"\",組合せ表!V9)","v":"松本北"},{"$f":"T4","v":0},"：",{"$f":"R4","v":10},{"$f":"T6","v":""},"：",{"$f":"R6","v":""},{"$f":"T8","v":""},"：",{"$f":"R8","v":""},{"$f":"T10","v":""},"：",{"$f":"R10","v":""},{"$f":"T12","v":4},"：",{"$f":"R12","v":5},null,null,null,{"$f":"IF(ISBLANK(組合せ表!$J$29),\"\",組合せ表!$J$29)","v":""},"：",{"$f":"IF(ISBLANK(組合せ表!$L$29),\"\",組合せ表!$L$29)","v":""},{"$f":"IF(ISBLANK(組合せ表!$G$14),\"\",組合せ表!$G$14)","v":11},"：",{"$f":"IF(ISBLANK(組合せ表!$E$14),\"\",組合せ表!$E$14)","v":17},{"$f":"IF(ISBLANK(組合せ表!$G$26),\"\",組合せ表!$G$26)","v":""},"：",{"$f":"IF(ISBLANK(組合せ表!$E$26),\"\",組合せ表!$E$26)","v":""},{"$f":"IF(ISBLANK(組合せ表!$J$12),\"\",組合せ表!$J$12)","v":""},"：",{"$f":"IF(ISBLANK(組合せ表!$L$12),\"\",組合せ表!$L$12)","v":""},null,"：",null,null,"：",null,null,"：",null,{"$f":"COUNTIF(C15:AM15,\"○\")","v":0},{"$f":"COUNTIF(C15:AM15,\"●\")","v":3},{"$f":"COUNTIF(C15:AM15,\"△\")","v":0},{"$f":"(AP14*3)+AR14","v":0},{"$f":"IF(AP14+AQ14>0,AP14/(AP14+AQ14),0)","v":0},{"$f":"SUM(C14,F14,I14,L14,O14,R14,U14,X14,AA14,AD14,AG14,AJ14,AM14)","v":15},{"$f":"SUM(E14,H14,K14,N14,Q14,T14,W14,Z14,AC14,AF14,AI14,AL14,AO14)","v":32},{"$f":"AU14-AV14","v":-17},10,{"$f":"B14","v":"松本北"},"F",null,null,24,{"$f":"$A$28","v":"M"},{"$f":"$AS$28","v":0},{"$f":"$AT$28","v":0},6,"M",0,0]
[null,null,{"$f":"IF(C14=\"\",\"\",IF(C14>E14,\"○\",IF(C14<E14,\"●\",IF(C14=E14,\"△\"))))","v":"●"},null,null,{"$f":"IF(F14=\"\",\"\",IF(F14>H14,\"○\",IF(F14<H14,\"●\",IF(F14=H14,\"△\"))))","v":""},null,null,{"$f":"IF(I14=\"\",\"\",IF(I14>K14,\"○\",IF(I14<K14,\"●\",IF(I14=K14,\"△\"))))","v":""},null,null,{"$f":"IF(L14=\"\",\"\",IF(L14>N14,\"○\",IF(L14<N14,\"●\",IF(L14=N14,\"△\"))))","v":""},null,null,{"$f":"IF(O14=\"\",\"\",IF(O14>Q14,\"○\",IF(O14<Q14,\"●\",IF(O14=Q14,\"△\"))))","v":"●"},null,null,null,null,null,{"$f":"IF(U14=\"\",\"\",IF(U14>W14,\"○\",IF(U14<W14,\"●\",IF(U14=W14,\"△\"))))","v":""},null,null,{"$f":"IF(X14=\"\",\"\",IF(X14>Z14,\"○\",IF(X14<Z14,\"●\",IF(X14=Z14,\"△\"))))","v":"●"},null,null,{"$f":"IF(AA14=\"\",\"\",IF(AA14>AC14,\"○\",IF(AA14<AC14,\"●\",IF(AA14=AC14,\"△\"))))","v":""},null,null,{"$f":"IF(AD14=\"\",\"\",IF(AD14>AF14,\"○\",IF(AD14<AF14,\"●\",IF(AD14=AF14,\"△\"))))","v":""},null,null,{"$f":"IF(AG14=\"\",\"\",IF(AG14>AI14,\"○\",IF(AG14<AI14,\"●\",IF(AG14=AI14,\"△\"))))","v":""},null,null,{"$f":"IF(AJ14=\"\",\"\",IF(AJ14>AL14,\"○\",IF(AJ14<AL14,\"●\",IF(AJ14=AL14,\"△\"))))","v":""},null,null,{"$f":"IF(AM14=\"\",\"\",IF(AM14>AO14,\"○\",IF(AM14<AO14,\"●\",IF(AM14=AO14,\"△\"))))","v":""},null,null,null,null,null,null,null,null,null,null,null,null,null,null,null,26,{"$f":"$A$24","v":"K"},{"$f":"$AS$24","v":0},{"$f":"$AT$24","v":0},6,"K",0,0]
["G",{"$f":"IF(ISBLANK(組合せ表!V10),\"\",組合せ表!V10)","v":"堀　金"},{"$f":"W4","v":""},"：",{"$f":"U4","v":""},{"$f":"W6","v":4},"：",{"$f":"U6","v":10},{"$f":"W8","v":""},"：",{"$f":"U8","v":""},{"$f":"W10","v":4},"：",{"$f":"U10","v":9},{"$f":"W12","v":16},"：",{"$f":"U12","v":1},{"$f":"W14","v":""},"：",{"$f":"U14","v":""},null,null,null,{"$f":"IF(ISBLANK(組合せ表!$J$27),\"\",組合せ表!$J$27)","v":""},"：",{"$f":"IF(ISBLANK(組合せ表!$L$27),\"\",組合せ表!$L$27)","v":""},{"$f":"IF(ISBLANK(組合せ表!$E$9),\"\",組合せ表!$E$9)","v":""},"：",{"$f":"IF(ISBLANK(組合せ表!$G$9),\"\",組合せ表!$G$9)","v":""},{"$f":"IF(ISBLANK(組合せ表!$L$26),\"\",組合せ表!$L$26)","v":""},"：",{"$f":"IF(ISBLANK(組合せ表!$J$26),\"\",組合せ表!$J$26)","v":""},null,"：",null,null,"：",null,null,"：",null,{"$f":"COUNTIF(C17:AM17,\"○\")","v":1},{"$f":"COUNTIF(C17:AM17,\"●\")","v":2},{"$f":"COUNTIF(C17:AM17,\"△\")","v":0},{"$f":"(AP16*3)+AR16","v":3},{"$f":"IF(AP16+AQ16>0,AP16/(AP16+AQ16),0)","v":0.33333333333333331},{"$f":"SUM(C16,F16,I16,L16,O16,R16,U16,X16,AA16,AD16,AG16,AJ16,AM16)","v":24},{"$f":"SUM(E16,H16,K16,N16,Q16,T16,W16,Z16,AC16,AF16,AI16,AL16,AO16)","v":20},{"$f":"AU16-AV16","v":4},6,{"$f":"B16","v":"堀　金"},"G",null,null,28,{"$f":"$A$26","v":"L"},{"$f":"$AS$26","v":0},{"$f":"$AT$26","v":0},6,"L",0,0]
[null,null,{"$f":"IF(C16=\"\",\"\",IF(C16>E16,\"○\",IF(C16<E16,\"●\",IF(C16=E16,\"△\"))))","v":""},null,null,{"$f":"IF(F16=\"\",\"\",IF(F16>H16,\"○\",IF(F16<H16,\"●\",IF(F16=H16,\"△\"))))","v":"●"},null,null,{"$f":"IF(I16=\"\",\"\",IF(I16>K16,\"○\",IF(I16<K16,\"●\",IF(I16=K16,\"△\"))))","v":""},null,null,{"$f":"IF(L16=\"\",\"\",IF(L16>N16,\"○\",IF(L16<N16,\"●\",IF(L16=N16,\"△\"))))","v":"●"},null,null,{"$f":"IF(O16=\"\",\"\",IF(O16>Q16,\"○\",IF(O16<Q16,\"●\",IF(O16=Q16,\"△\"))))","v":"○"},null,null,{"$f":"IF(R16=\"\",\"\",IF(R16>T16,\"○\",IF(R16<T16,\"●\",IF(R16=T16,\"△\"))))","v":""},null,null,null,null,null,{"$f":"IF(X16=\"\",\"\",IF(X16>Z16,\"○\",IF(X16<Z16,\"●\",IF(X16=Z16,\"△\"))))","v":""},null,null,{"$f":"IF(AA16=\"\",\"\",IF(AA16>AC16,\"○\",IF(AA16<AC16,\"●\",IF(AA16=AC16,\"△\"))))","v":""},null,null,{"$f":"IF(AD16=\"\",\"\",IF(AD16>AF16,\"○\",IF(AD16<AF16,\"●\",IF(AD16=AF16,\"△\"))))","v":""},null,null,{"$f":"IF(AG16=\"\",\"\",IF(AG16>AI16,\"○\",IF(AG16<AI16,\"●\",IF(AG16=AI16,\"△\"))))","v":""},null,null,{"$f":"IF(AJ16=\"\",\"\",IF(AJ16>AL16,\"○\",IF(AJ16<AL16,\"●\",IF(AJ16=AL16,\"△\"))))","v":""},null,null,{"$f":"IF(AM16=\"\",\"\",IF(AM16>AO16,\"○\",IF(AM16<AO16,\"●\",IF(AM16=AO16,\"△\"))))","v":""}]
["H",{"$f":"IF(ISBLANK(組合せ表!V11),\"\",組合せ表!V11)","v":"飯　田"},{"$f":"Z4","v":""},"：",{"$f":"X4","v":""},{"$f":"Z6","v":""},"：",{"$f":"X6","v":""},{"$f":"Z8","v":6},"：",{"$f":"X8","v":1},{"$f":"Z10","v":15},"：",{"$f":"X10","v":4},{"$f":"Z12","v":""},"：",{"$f":"X12","v":""},{"$f":"Z14","v":17},"：",{"$f":"X14","v":11},{"$f":"Z16","v":""},"：",{"$f":"X16","v":""},null,null,null,{"$f":"IF(ISBLANK(組合せ表!$E$24),\"\",組合せ表!$E$24)","v":""},"：",{"$f":"IF(ISBLANK(組合せ表!$G$24),\"\",組合せ表!$G$24)","v":""},{"$f":"IF(ISBLANK(組合せ表!$G$7),\"\",組合せ表!$G$7)","v":3},"：",{"$f":"IF(ISBLANK(組合せ表!$E$7),\"\",組合せ表!$E$7)","v":0},null,"：",null,null,"：",null,null,"：",null,{"$f":"COUNTIF(C19:AM19,\"○\")","v":4},{"$f":"COUNTIF(C19:AM19,\"●\")","v":0},{"$f":"COUNTIF(C19:AM19,\"△\")","v":0},{"$f":"(AP18*3)+AR18","v":12},{"$f":"IF(AP18+AQ18>0,AP18/(AP18+AQ18),0)","v":1},{"$f":"SUM(C18,F18,I18,L18,O18,R18,U18,X18,AA18,AD18,AG18,AJ18,AM18)","v":41},{"$f":"SUM(E18,H18,K18,N18,Q18,T18,W18,Z18,AC18,AF18,AI18,AL18,AO18)","v":16},{"$f":"AU18-AV18","v":25},2,{"$f":"B18","v":"飯　田"},"H"]
[null,null,{"$f":"IF(C18=\"\",\"\",IF(C18>E18,\"○\",IF(C18<E18,\"●\",IF(C18=E18,\"△\"))))","v":""},null,null,{"$f":"IF(F18=\"\",\"\",IF(F18>H18,\"○\",IF(F18<H18,\"●\",IF(F18=H18,\"△\"))))","v":""},null,null,{"$f":"IF(I18=\"\",\"\",IF(I18>K18,\"○\",IF(I18<K18,\"●\",IF(I18=K18,\"△\"))))","v":"○"},null,null,{"$f":"IF(L18=\"\",\"\",IF(L18>N18,\"○\",IF(L18<N18,\"●\",IF(L18=N18,\"△\"))))","v":"○"},null,null,{"$f":"IF(O18=\"\",\"\",IF(O18>Q18,\"○\",IF(O18<Q18,\"●\",IF(O18=Q18,\"△\"))))","v":""},null,null,{"$f":"IF(R18=\"\",\"\",IF(R18>T18,\"○\",IF(R18<T18,\"●\",IF(R18=T18,\"△\"))))","v":"○"},null,null,{"$f":"IF(U18=\"\",\"\",IF(U18>W18,\"○\",IF(U18<W18,\"●\",IF(U18=W18,\"△\"))))","v":""},null,null,null,null,null,{"$f":"IF(AA18=\"\",\"\",IF(AA18>AC18,\"○\",IF(AA18<AC18,\"●\",IF(AA18=AC18,\"△\"))))","v":""},null,null,{"$f":"IF(AD18=\"\",\"\",IF(AD18>AF18,\"○\",IF(AD18<AF18,\"●\",IF(AD18=AF18,\"△\"))))","v":"○"},null,null,{"$f":"IF(AG18=\"\",\"\",IF(AG18>AI18,\"○\",IF(AG18<AI18,\"●\",IF(AG18=AI18,\"△\"))))","v":""},null,null,{"$f":"IF(AJ18=\"\",\"\",IF(AJ18>AL18,\"○\",IF(AJ18<AL18,\"●\",IF(AJ18=AL18,\"△\"))))","v":""},null,null,{"$f":"IF(AM18=\"\",\"\",IF(AM18>AO18,\"○\",IF(AM18<AO18,\"●\",IF(AM18=AO18,\"△\"))))","v":""}]
["I",{"$f":"IF(ISBLANK(組合せ表!V12),\"\",組合せ表!V12)","v":"安曇野　穂 　高"},{"$f":"AC4","v":9},"：",{"$f":"AA4","v":0},{"$f":"AC6","v":9},"：",{"$f":"AA6","v":2},{"$f":"AC8","v":7},"：",{"$f":"AA8","v":1},{"$f":"AC10","v":""},"：",{"$f":"AA10","v":""},{"$f":"AC12","v":16},"：",{"$f":"AA12","v":5},{"$f":"AC14","v":""},"：",{"$f":"AA14","v":""},{"$f":"AC16","v":""},"：",{"$f":"AA16","v":""},{"$f":"AC18","v":""},"：",{"$f":"AA18","v":""},null,null,null,{"$f":"IF(ISBLANK(組合せ表!$L$21),\"\",組合せ表!$L$21)","v":""},"：",{"$f":"IF(ISBLANK(組合せ表!$J$21),\"\",組合せ表!$J$21)","v":""},null,"：",null,null,"：",null,null,"：",null,{"$f":"COUNTIF(C21:AM21,\"○\")","v":4},{"$f":"COUNTIF(C21:AM21,\"●\")","v":0},{"$f":"COUNTIF(C21:AM21,\"△\")","v":0},{"$f":"(AP20*3)+AR20","v":12},{"$f":"IF(AP20+AQ20>0,AP20/(AP20+AQ20),0)","v":1},{"$f":"SUM(C20,F20,I20,L20,O20,R20,U20,X20,AA20,AD20,AG20,AJ20,AM20)","v":41},{"$f":"SUM(E20,H20,K20,N20,Q20,T20,W20,Z20,AC20,AF20,AI20,AL20,AO20)","v":8},{"$f":"AU20-AV20","v":33},1,{"$f":"B20","v":"安曇野　穂 　高"},"I"]
[null,null,{"$f":"IF(C20=\"\",\"\",IF(C20>E20,\"○\",IF(C20<E20,\"●\",IF(C20=E20,\"△\"))))","v":"○"},null,null,{"$f":"IF(F20=\"\",\"\",IF(F20>H20,\"○\",IF(F20<H20,\"●\",IF(F20=H20,\"△\"))))","v":"○"},null,null,{"$f":"IF(I20=\"\",\"\",IF(I20>K20,\"○\",IF(I20<K20,\"●\",IF(I20=K20,\"△\"))))","v":"○"},null,null,{"$f":"IF(L20=\"\",\"\",IF(L20>N20,\"○\",IF(L20<N20,\"●\",IF(L20=N20,\"△\"))))","v":""},null,null,{"$f":"IF(O20=\"\",\"\",IF(O20>Q20,\"○\",IF(O20<Q20,\"●\",IF(O20=Q20,\"△\"))))","v":"○"},null,null,{"$f":"IF(R20=\"\",\"\",IF(R20>T20,\"○\",IF(R20<T20,\"●\",IF(R20=T20,\"△\"))))","v":""},null,null,{"$f":"IF(U20=\"\",\"\",IF(U20>W20,\"○\",IF(U20<W20,\"●\",IF(U20=W20,\"△\"))))","v":""},null,null,{"$f":"IF(X20=\"\",\"\",IF(X20>Z20,\"○\",IF(X20<Z20,\"●\",IF(X20=Z20,\"△\"))))","v":""},null,null,null,null,null,{"$f":"IF(AD20=\"\",\"\",IF(AD20>AF20,\"○\",IF(AD20<AF20,\"●\",IF(AD20=AF20,\"△\"))))","v":""},null,null,{"$f":"IF(AG20=\"\",\"\",IF(AG20>AI20,\"○\",IF(AG20<AI20,\"●\",IF(AG20=AI20,\"△\"))))","v":""},null,null,{"$f":"IF(AJ20=\"\",\"\",IF(AJ20>AL20,\"○\",IF(AJ20<AL20,\"●\",IF(AJ20=AL20,\"△\"))))","v":""},null,null,{"$f":"IF(AM20=\"\",\"\",IF(AM20>AO20,\"○\",IF(AM20<AO20,\"●\",IF(AM20=AO20,\"△\"))))","v":""}]
["J",{"$f":"IF(ISBLANK(組合せ表!V13),\"\",組合せ表!V13)","v":"塩　尻"},{"$f":"AF4","v":0},"：",{"$f":"AD4","v":9},{"$f":"AF6","v":""},"：",{"$f":"AD6","v":""},{"$f":"AF8","v":""},"：",{"$f":"AD8","v":""},{"$f":"AF10","v":6},"：",{"$f":"AD10","v":6},{"$f":"AF12","v":""},"：",{"$f":"AD12","v":""},{"$f":"AF14","v":""},"：",{"$f":"AD14","v":""},{"$f":"AF16","v":""},"：",{"$f":"AD16","v":""},{"$f":"AF18","v":0},"：",{"$f":"AD18","v":3},{"$f":"AF20","v":""},"：",{"$f":"AD20","v":""},null,null,null,null,"：",null,null,"：",null,null,"：",null,{"$f":"COUNTIF(C23:AM23,\"○\")","v":0},{"$f":"COUNTIF(C23:AM23,\"●\")","v":2},{"$f":"COUNTIF(C23:AM23,\"△\")","v":1},{"$f":"(AP22*3)+AR22","v":1},{"$f":"IF(AP22+AQ22>0,AP22/(AP22+AQ22),0)","v":0},{"$f":"SUM(C22,F22,I22,L22,O22,R22,U22,X22,AA22,AD22,AG22,AJ22,AM22)","v":6},{"$f":"SUM(E22,H22,K22,N22,Q22,T22,W22,Z22,AC22,AF22,AI22,AL22,AO22)","v":18},{"$f":"AU22-AV22","v":-12},9,{"$f":"B22","v":"塩　尻"},"J"]
[null,null,{"$f":"IF(C22=\"\",\"\",IF(C22>E22,\"○\",IF(C22<E22,\"●\",IF(C22=E22,\"△\"))))","v":"●"},null,null,{"$f":"IF(F22=\"\",\"\",IF(F22>H22,\"○\",IF(F22<H22,\"●\",IF(F22=H22,\"△\"))))","v":""},null,null,{"$f":"IF(I22=\"\",\"\",IF(I22>K22,\"○\",IF(I22<K22,\"●\",IF(I22=K22,\"△\"))))","v":""},null,null,{"$f":"IF(L22=\"\",\"\",IF(L22>N22,\"○\",IF(L22<N22,\"●\",IF(L22=N22,\"△\"))))","v":"△"},null,null,{"$f":"IF(O22=\"\",\"\",IF(O22>Q22,\"○\",IF(O22<Q22,\"●\",IF(O22=Q22,\"△\"))))","v":""},null,null,{"$f":"IF(R22=\"\",\"\",IF(R22>T22,\"○\",IF(R22<T22,\"●\",IF(R22=T22,\"△\"))))","v":""},null,null,{"$f":"IF(U22=\"\",\"\",IF(U22>W22,\"○\",IF(U22<W22,\"●\",IF(U22=W22,\"△\"))))","v":""},null,null,{"$f":"IF(X22=\"\",\"\",IF(X22>Z22,\"○\",IF(X22<Z22,\"●\",IF(X22=Z22,\"△\"))))","v":"●"},null,null,{"$f":"IF(AA22=\"\",\"\",IF(AA22>AC22,\"○\",IF(AA22<AC22,\"●\",IF(AA22=AC22,\"△\"))))","v":""},null,null,null,null,null,{"$f":"IF(AG22=\"\",\"\",IF(AG22>AI22,\"○\",IF(AG22<AI22,\"●\",IF(AG22=AI22,\"△\"))))","v":""},null,null,{"$f":"IF(AJ22=\"\",\"\",IF(AJ22>AL22,\"○\",IF(AJ22<AL22,\"●\",IF(AJ22=AL22,\"△\"))))","v":""},null,null,{"$f":"IF(AM22=\"\",\"\",IF(AM22>AO22,\"○\",IF(AM22<AO22,\"●\",IF(AM22=AO22,\"△\"))))","v":""}]
["K",{"$f":"IF(ISBLANK(組合せ表!V14),\"\",組合せ表!V14)","v":""},null,"：",null,null,"：",null,null,"：",null,null,"：",null,null,"：",null,null,"：",null,null,"：",null,null,"：",null,null,"：",null,null,"：",null,null,null,null,null,"：",null,null,"：",null,null,null,null,null,null,null,null,null,12,{"$f":"B24","v":""},"K"]
[null,null,{"$f":"IF(C24=\"\",\"\",IF(C24>E24,\"○\",IF(C24<E24,\"●\",IF(C24=E24,\"△\"))))","v":""},null,null,{"$f":"IF(F24=\"\",\"\",IF(F24>H24,\"○\",IF(F24<H24,\"●\",IF(F24=H24,\"△\"))))","v":""},null,null,{"$f":"IF(I24=\"\",\"\",IF(I24>K24,\"○\",IF(I24<K24,\"●\",IF(I24=K24,\"△\"))))","v":""},null,null,{"$f":"IF(L24=\"\",\"\",IF(L24>N24,\"○\",IF(L24<N24,\"●\",IF(L24=N24,\"△\"))))","v":""},null,null,{"$f":"IF(O24=\"\",\"\",IF(O24>Q24,\"○\",IF(O24<Q24,\"●\",IF(O24=Q24,\"△\"))))","v":""},null,null,{"$f":"IF(R24=\"\",\"\",IF(R24>T24,\"○\",IF(R24<T24,\"●\",IF(R24=T24,\"△\"))))","v":""},null,null,{"$f":"IF(U24=\"\",\"\",IF(U24>W24,\"○\",IF(U24<W24,\"●\",IF(U24=W24,\"△\"))))","v":""},null,null,{"$f":"IF(X24=\"\",\"\",IF(X24>Z24,\"○\",IF(X24<Z24,\"●\",IF(X24=Z24,\"△\"))))","v":""},null,null,{"$f":"IF(AA24=\"\",\"\",IF(AA24>AC24,\"○\",IF(AA24<AC24,\"●\",IF(AA24=AC24,\"△\"))))","v":""},null,null,{"$f":"IF(AD24=\"\",\"\",IF(AD24>AF24,\"○\",IF(AD24<AF24,\"●\",IF(AD24=AF24,\"△\"))))","v":""},null,null,null,null,null,{"$f":"IF(AJ24=\"\",\"\",IF(AJ24>AL24,\"○\",IF(AJ24<AL24,\"●\",IF(AJ24=AL24,\"△\"))))","v":""},null,null,{"$f":"IF(AM24=\"\",\"\",IF(AM24>AO24,\"○\",IF(AM24<AO24,\"●\",IF(AM24=AO24,\"△\"))))","v":""}]
["L",{"$f":"IF(ISBLANK(組合せ表!V15),\"\",組合せ表!V15)","v":""},null,"：",null,null,"：",null,null,"：",null,null,"：",null,null,"：",null,null,"：",null,null,"：",null,null,"：",null,null,"：",null,null,"：",null,null,"：",null,null,null,null,null,"：",null,null,null,null,null,null,null,null,null,13,{"$f":"B26","v":""},"L"]
[null,null,{"$f":"IF(C26=\"\",\"\",IF(C26>E26,\"○\",IF(C26<E26,\"●\",IF(C26=E26,\"△\"))))","v":""},null,null,{"$f":"IF(F26=\"\",\"\",IF(F26>H26,\"○\",IF(F26<H26,\"●\",IF(F26=H26,\"△\"))))","v":""},null,null,{"$f":"IF(I26=\"\",\"\",IF(I26>K26,\"○\",IF(I26<K26,\"●\",IF(I26=K26,\"△\"))))","v":""},null,null,{"$f":"IF(L26=\"\",\"\",IF(L26>N26,\"○\",IF(L26<N26,\"●\",IF(L26=N26,\"△\"))))","v":""},null,null,{"$f":"IF(O26=\"\",\"\",IF(O26>Q26,\"○\",IF(O26<Q26,\"●\",IF(O26=Q26,\"△\"))))","v":""},null,null,{"$f":"IF(R26=\"\",\"\",IF(R26>T26,\"○\",IF(R26<T26,\"●\",IF(R26=T26,\"△\"))))","v":""},null,null,{"$f":"IF(U26=\"\",\"\",IF(U26>W26,\"○\",IF(U26<W26,\"●\",IF(U26=W26,\"△\"))))","v":""},null,null,{"$f":"IF(X26=\"\",\"\",IF(X26>Z26,\"○\",IF(X26<Z26,\"●\",IF(X26=Z26,\"△\"))))","v":""},null,null,{"$f":"IF(AA26=\"\",\"\",IF(AA26>AC26,\"○\",IF(AA26<AC26,\"●\",IF(AA26=AC26,\"△\"))))","v":""},null,null,{"$f":"IF(AD26=\"\",\"\",IF(AD26>AF26,\"○\",IF(AD26<AF26,\"●\",IF(AD26=AF26,\"△\"))))","v":""},null,null,{"$f":"IF(AG26=\"\",\"\",IF(AG26>AI26,\"○\",IF(AG26<AI26,\"●\",IF(AG26=AI26,\"△\"))))","v":""},null,null,null,null,null,{"$f":"IF(AM26=\"\",\"\",IF(AM26>AO26,\"○\",IF(AM26<AO26,\"●\",IF(AM26=AO26,\"△\"))))","v":""}]
["M",{"$f":"IF(ISBLANK(組合せ表!V16),\"\",組合せ表!V16)","v":""},null,"：",null,null,"：",null,null,"：",null,null,"：",null,null,"：",null,null,"：",null,null,"：",null,null,"：",null,null,"：",null,null,"：",null,null,"：",null,null,"：",null,null,null,null,null,null,null,null,null,null,null,null,11,{"$f":"B28","v":""},"M"]
[null,null,{"$f":"IF(C28=\"\",\"\",IF(C28>E28,\"○\",IF(C28<E28,\"●\",IF(C28=E28,\"△\"))))","v":""},null,null,{"$f":"IF(F28=\"\",\"\",IF(F28>H28,\"○\",IF(F28<H28,\"●\",IF(F28=H28,\"△\"))))","v":""},null,null,{"$f":"IF(I28=\"\",\"\",IF(I28>K28,\"○\",IF(I28<K28,\"●\",IF(I28=K28,\"△\"))))","v":""},null,null,{"$f":"IF(L28=\"\",\"\",IF(L28>N28,\"○\",IF(L28<N28,\"●\",IF(L28=N28,\"△\"))))","v":""},null,null,{"$f":"IF(O28=\"\",\"\",IF(O28>Q28,\"○\",IF(O28<Q28,\"●\",IF(O28=Q28,\"△\"))))","v":""},null,null,{"$f":"IF(R28=\"\",\"\",IF(R28>T28,\"○\",IF(R28<T28,\"●\",IF(R28=T28,\"△\"))))","v":""},null,null,{"$f":"IF(U28=\"\",\"\",IF(U28>W28,\"○\",IF(U28<W28,\"●\",IF(U28=W28,\"△\"))))","v":""},null,null,{"$f":"IF(X28=\"\",\"\",IF(X28>Z28,\"○\",IF(X28<Z28,\"●\",IF(X28=Z28,\"△\"))))","v":""},null,null,{"$f":"IF(AA28=\"\",\"\",IF(AA28>AC28,\"○\",IF(AA28<AC28,\"●\",IF(AA28=AC28,\"△\"))))","v":""},null,null,{"$f":"IF(AD28=\"\",\"\",IF(AD28>AF28,\"○\",IF(AD28<AF28,\"●\",IF(AD28=AF28,\"△\"))))","v":""},null,null,{"$f":"IF(AG28=\"\",\"\",IF(AG28>AI28,\"○\",IF(AG28<AI28,\"●\",IF(AG28=AI28,\"△\"))))","v":""},null,null,{"$f":"IF(AJ28=\"\",\"\",IF(AJ28>AL28,\"○\",IF(AJ28<AL28,\"●\",IF(AJ28=AL28,\"△\"))))","v":""}]
[null,null,{"$f":"C3","v":"波　田"},null,null,{"$f":"F3","v":"豊　科"},null,null,{"$f":"I3","v":"大町　白馬"},null,null,{"$f":"L3","v":"松本南"},null,null,{"$f":"O3","v":"三　郷"},null,null,{"$f":"R3","v":"松本北"},null,null,{"$f":"U3","v":"堀　金"},null,null,{"$f":"X3","v":"飯　田"},null,null,{"$f":"AA3","v":"安曇野穂高"},null,null,{"$f":"AD3","v":"塩　尻"},null,null,{"$f":"AG3","v":""},null,null,{"$f":"AJ3","v":""},null,null,{"$f":"AM3","v":""},null,null,{"$f":"AP4+AP6+AP8+AP10+AP12+AP14+AP16+AP18+AP20+AP22+AP24+AP26+AP28","v":15},{"$f":"AQ4+AQ6+AQ8+AQ10+AQ12+AQ14+AQ16+AQ18+AQ20+AQ22+AQ24+AQ26+AQ28","v":15},{"$f":"AR4+AR6+AR8+AR10+AR12+AR14+AR16+AR18+AR20+AR22+AR24+AR26+AR28","v":2},{"$f":"SUM(AS4:AS29)","v":47},null,{"$f":"AU4+AU6+AU8+AU10+AU12+AU14+AU16+AU18+AU20+AU22+AU24+AU26+AU28","v":212},{"$f":"AV4+AV6+AV8+AV10+AV12+AV14+AV16+AV18+AV20+AV22+AV24+AV26+AV28","v":212},{"$f":"AW4+AW6+AW8+AW10+AW12+AW14+AW16+AW18+AW20+AW22+AW24+AW26+AW28","v":0}]
[null,null,null,null,null,null,null,null,null,null,null,null,null,null,null,null,null,null,null,null,null,null,null,null,null,null,null,null,null,null,null,null,null,null,null,null,null,null,null,null,null,{"$f":"AP30*3","v":45},null,{"$f":"AR30","v":2},{"$f":"SUM(AS5:AS30)","v":88}]
["※","順位決定は勝ち点、勝率の順で決定する。以下順位決定方は、別紙参照のこと。《勝ち＝３点　分け＝１点　負け＝０点》"]

{"sheet":"Ｃグラウンド","index":4,"n_rows":69,"n_cols":58,"rows_kept":69,"cut":false,"hidden":false,"merged":[[63,0,63,5],[63,6,63,7],[63,8,63,9],[63,10,63,11],[64,0,64,5],[64,6,64,7],[64,20,64,21],[68,35,68,58],[64,8,64,9],[64,10,64,11],[66,0,66,5],[66,6,66,21],[66,22,66,34],[66,35,66,58],[67,0,67,5],[67,6,67,21],[67,22,67,34],[64,22,64,23],[67,35,67,58],[64,28,64,45],[64,46,64,58],[64,12,64,13],[64,14,64,15],[64,16,64,17],[64,18,64,19],[64,24,64,26],[68,0,68,5],[68,6,68,21],[68,22,68,34],[62,46,62,58],[63,28,63,45],[63,46,63,58],[62,12,62,13],[62,14,62,15],[62,16,62,17],[63,22,63,23],[62,18,62,19],[62,20,62,21],[62,22,62,23],[63,24,63,26],[63,18,63,19],[63,20,63,21],[63,12,63,13],[63,14,63,15],[63,16,63,17],[62,0,62,5],[62,6,62,7],[62,8,62,9],[62,10,62,11],[62,24,62,26],[62,28,62,45],[61,34,61,39],[61,0,61,5],[61,21,61,26],[61,40,61,41],[61,43,61,44],[58,35,58,58],[59,22,59,34],[59,0,59,5],[59,6,59,21],[59,35,59,58],[61,30,61,31],[61,53,61,54],[61,55,61,56],[61,57,61,58],[61,47,61,50],[61,51,61,52],[61,27,61,28],[61,6,61,11],[61,12,61,17],[58,0,58,5],[58,6,58,21],[58,22,58,34],[55,22,55,23],[55,24,55,26],[55,28,55,45],[57,35,57,58],[57,0,57,5],[57,6,57,21],[55,0,55,5],[55,6,55,7],[55,8,55,9],[55,10,55,11],[55,20,55,21],[57,22,57,34],[55,46,55,58],[54,46,54,58],[55,12,55,13],[55,14,55,15],[55,16,55,17],[55,18,55,19],[52,57,52,58],[52,40,52,41],[52,43,52,44],[52,47,52,50],[52,51,52,52],[53,16,53,17],[53,46,53,58],[52,53,52,54],[54,24,54,26],[54,28,54,45],[53,18,53,19],[53,20,53,21],[53,22,53,23],[53,24,53,26],[53,28,53,45],[52,55,52,56],[52,34,52,39],[52,21,52,26],[52,27,52,28],[54,20,54,21],[54,22,54,23],[52,30,52,31],[54,16,54,17],[54,18,54,19],[52,0,52,5],[52,6,52,11],[52,12,52,17],[53,12,53,13],[53,14,53,15],[53,0,53,5],[53,6,53,7],[53,8,53,9],[53,10,53,11],[54,0,54,5],[54,6,54,7],[54,8,54,9],[54,10,54,11],[54,12,54,13],[54,14,54,15],[48,22,48,34],[48,35,48,58],[48,0,48,5],[48,6,48,21],[50,35,50,58],[49,0,49,5],[49,6,49,21],[49,22,49,34],[49,35,49,58],[50,22,50,34],[50,0,50,5],[50,6,50,21],[46,0,46,5],[46,6,46,7],[46,8,46,9],[46,10,46,11],[46,20,46,21],[46,12,46,13],[46,14,46,15],[46,16,46,17],[46,46,46,58],[46,28,46,45],[45,46,45,58],[43,34,43,39],[43,21,43,26],[43,27,43,28],[45,20,45,21],[45,22,45,23],[46,18,46,19],[45,0,45,5],[45,6,45,7],[45,8,45,9],[45,10,45,11],[45,12,45,13],[45,14,45,15],[45,16,45,17],[45,18,45,19],[45,24,45,26],[45,28,45,45],[44,18,44,19],[44,20,44,21],[44,22,44,23],[44,24,44,26],[44,28,44,45],[46,22,46,23],[46,24,46,26],[43,55,43,56],[43,57,43,58],[43,40,43,41],[43,43,43,44],[43,47,43,50],[43,51,43,52],[43,30,43,31],[44,46,44,58],[43,53,43,54],[44,16,44,17],[43,0,43,5],[43,6,43,11],[43,12,43,17],[44,12,44,13],[44,14,44,15],[44,0,44,5],[44,6,44,7],[44,8,44,9],[44,10,44,11],[39,22,39,34],[39,35,39,58],[39,0,39,5],[39,6,39,21],[41,35,41,58],[40,0,40,5],[40,6,40,21],[40,22,40,34],[40,35,40,58],[41,22,41,34],[41,0,41,5],[41,6,41,21],[36,0,36,5],[36,6,36,7],[36,8,36,9],[36,10,36,11],[36,12,36,13],[36,14,36,15],[36,16,36,17],[36,18,36,19],[37,22,37,23],[37,0,37,5],[37,6,37,7],[37,8,37,9],[37,10,37,11],[37,20,37,21],[37,12,37,13],[37,14,37,15],[37,16,37,17],[37,18,37,19],[34,55,34,56],[34,57,34,58],[34,40,34,41],[34,43,34,44],[34,47,34,50],[34,51,34,52],[37,24,37,26],[37,28,37,45],[37,46,37,58],[36,46,36,58],[34,34,34,39],[34,21,34,26],[34,27,34,28],[36,20,36,21],[36,22,36,23],[35,46,35,58],[34,53,34,54],[36,24,36,26],[36,28,36,45],[34,30,34,31],[33,35,33,58],[32,0,32,5],[32,6,32,21],[32,22,32,34],[32,35,32,58],[33,22,33,34],[33,0,33,5],[33,6,33,21],[31,0,31,5],[31,6,31,21],[31,35,31,58],[34,0,34,5],[34,6,34,11],[34,12,34,17],[35,12,35,13],[35,14,35,15],[35,0,35,5],[35,6,35,7],[35,8,35,9],[35,10,35,11],[35,16,35,17],[35,18,35,19],[35,20,35,21],[35,22,35,23],[35,24,35,26],[35,28,35,45],[31,22,31,34],[28,0,28,5],[28,6,28,7],[28,8,28,9],[28,10,28,11],[28,12,28,13],[28,14,28,15],[28,16,28,17],[28,18,28,19],[29,22,29,23],[29,16,29,17],[29,18,29,19],[29,0,29,5],[29,6,29,7],[29,8,29,9],[29,20,29,21],[29,10,29,11],[28,24,28,26],[28,28,28,45],[27,20,27,21],[27,22,27,23],[27,24,27,26],[27,28,27,45],[26,55,26,56],[29,12,29,13],[29,14,29,15],[29,24,29,26],[29,28,29,45],[29,46,29,58],[28,46,28,58],[26,34,26,39],[26,21,26,26],[26,27,26,28],[28,20,28,21],[28,22,28,23],[26,30,26,31],[26,57,26,58],[26,40,26,41],[26,43,26,44],[26,47,26,50],[26,51,26,52],[26,0,26,5],[26,6,26,11],[26,12,26,17],[27,46,27,58],[26,53,26,54],[27,16,27,17],[20,12,20,13],[20,14,20,15],[22,0,22,5],[22,6,22,21],[20,16,20,17],[20,18,20,19],[20,0,20,5],[20,6,20,7],[20,8,20,9],[27,12,27,13],[27,14,27,15],[27,0,27,5],[27,6,27,7],[27,8,27,9],[27,10,27,11],[24,35,24,58],[24,22,24,34],[27,18,27,19],[20,10,20,11],[24,0,24,5],[24,6,24,21],[22,22,22,34],[22,35,22,58],[23,0,23,5],[23,6,23,21],[23,22,23,34],[23,35,23,58],[20,20,20,21],[20,22,20,23],[20,24,20,26],[20,28,20,45],[20,46,20,58],[14,22,14,34],[17,30,17,31],[18,22,18,23],[18,24,18,26],[18,28,18,45],[19,24,19,26],[19,28,19,45],[13,35,13,58],[11,22,11,23],[11,24,11,26],[11,28,11,45],[11,46,11,58],[13,22,13,34],[19,46,19,58],[18,46,18,58],[17,53,17,54],[17,55,17,56],[17,57,17,58],[17,47,17,50],[17,51,17,52],[17,34,17,39],[19,16,19,17],[19,18,19,19],[18,20,18,21],[15,0,15,5],[15,6,15,21],[19,14,19,15],[19,20,19,21],[19,22,19,23],[17,43,17,44],[19,0,19,5],[19,6,19,7],[19,8,19,9],[19,10,19,11],[19,12,19,13],[14,0,14,5],[14,6,14,21],[13,6,13,21],[11,0,11,5],[11,6,11,7],[13,0,13,5],[18,16,18,17],[17,0,17,5],[17,6,17,11],[17,12,17,17],[18,12,18,13],[18,0,18,5],[11,16,11,17],[11,18,11,19],[11,10,11,11],[11,20,11,21],[11,12,11,13],[11,14,11,15],[10,6,10,7],[10,8,10,9],[10,10,10,11],[10,12,10,13],[17,21,17,26],[17,27,17,28],[17,40,17,41],[18,14,18,15],[10,20,10,21],[10,22,10,23],[18,6,18,7],[18,8,18,9],[18,10,18,11],[10,14,10,15],[10,16,10,17],[10,18,10,19],[18,18,18,19],[15,35,15,58],[15,22,15,34],[10,24,10,26],[10,28,10,45],[10,46,10,58],[14,35,14,58],[11,8,11,9],[10,0,10,5],[9,24,9,26],[9,16,9,17],[8,51,8,52],[9,0,9,5],[9,6,9,7],[9,8,9,9],[9,10,9,11],[8,40,8,41],[8,43,8,44],[8,47,8,50],[9,28,9,45],[8,0,8,5],[8,21,8,26],[8,6,8,11],[8,12,8,17],[9,12,9,13],[9,14,9,15],[9,18,9,19],[9,20,9,21],[9,22,9,23],[9,46,9,58],[8,53,8,54],[8,55,8,56],[8,57,8,58],[8,27,8,28],[8,30,8,31],[8,34,8,39],[6,47,6,48],[6,49,6,57],[6,7,6,11],[6,12,6,22],[6,23,6,24],[6,25,6,46],[0,0,1,58],[2,0,2,23],[4,10,4,14],[4,15,4,20],[4,21,4,25],[4,26,4,48],[3,49,3,58],[2,25,2,48],[2,49,2,58]]}
["公益財団法人　日本リトルリーグ野球協会御中"]
[]
["　　　お世話に成ります。　　試合記録を報告します。",null,null,null,null,null,null,null,null,null,null,null,null,null,null,null,null,null,null,null,null,null,null,null,null,"試合日　平成年月日()",null,null,null,null,null,null,null,null,null,null,null,null,null,null,null,null,null,null,null,null,null,null,null,"中南信ブロック事務局"]
[null,null,null,null,null,null,null,null,null,null,null,null,null,null,null,null,null,null,null,null,null,null,null,null,null,null,null,null,null,null,null,null,null,null,null,null,null,null,null,null,null,null,null,null,null,null,null,null,null,"柳原喜夫"]
[null,null,null,null,null,null,null,null,null,null,"大会名 ：",null,null,null,null,"年度",null,null,null,null,null,"第回"]
[]
[null,null,null,null,null,null,null,"開催地 ：",null,null,null,null,null,null,null,null,null,null,null,null,null,null,null,"市",null,null,null,null,null,null,null,null,null,null,null,null,null,null,null,null,null,null,null,null,null,null,null,"Ｃ",null,"グラウンド"]
[]
["第日目",null,null,null,null,null,"回戦",null,null,null,null,null,"第試合",null,null,null,null,null,null,null,null,"試合開始時間",null,null,null,null,null,null,null,"時",null,null,"分",null,"試合終了時間",null,null,null,null,null,null,null,"時",null,null,"分",null,"試合時間",null,null,null,null,null,"時間",null,null,null,"分"]
[null,null,null,null,null,null,1,null,2,null,3,null,4,null,5,null,6,null,7,null,8,null,9,null,"合　計",null,null,null,"投　　　　　　　　手",null,null,null,null,null,null,null,null,null,null,null,null,null,null,null,null,null,"捕　　　　　　　手"]
[null,null,null,null,null,null,null,null,null,null,null,null,null,null,null,null,null,null,null,null,null,null,null,null,{"$f":"SUM(G11:X11)","v":0}]
[null,null,null,null,null,null,null,null,null,null,null,null,null,null,null,null,null,null,null,null,null,null,null,null,{"$f":"SUM(G12:X12)","v":0}]
[]
[null,null,null,null,null,null,"本　　塁　　打",null,null,null,null,null,null,null,null,null,null,null,null,null,null,null,"三　　塁　　打",null,null,null,null,null,null,null,null,null,null,null,null,"二　　　　塁　　　　打"]
[{"$f":"A11","v":0}]
[{"$f":"A12","v":0}]
[]
["第日目",null,null,null,null,null,"回戦",null,null,null,null,null,"第試合",null,null,null,null,null,null,null,null,"試合開始時間",null,null,null,null,null,null,null,"時",null,null,"分",null,"試合終了時間",null,null,null,null,null,null,null,"時",null,null,"分",null,"試合時間",null,null,null,null,null,"時間",null,null,null,"分"]
[null,null,null,null,null,null,1,null,2,null,3,null,4,null,5,null,6,null,7,null,8,null,9,null,"合　計",null,null,null,"投　　　　　　　　手",null,null,null,null,null,null,null,null,null,null,null,null,null,null,null,null,null,"捕　　　　　　　手"]
[null,null,null,null,null,null,null,null,null,null,null,null,null,null,null,null,null,null,null,null,null,null,null,null,{"$f":"SUM(G20:X20)","v":0}]
[null,null,null,null,null,null,null,null,null,null,null,null,null,null,null,null,null,null,null,null,null,null,null,null,{"$f":"SUM(G21:X21)","v":0}]
[]
[null,null,null,null,null,null,"本　　塁　　打",null,null,null,null,null,null,null,null,null,null,null,null,null,null,null,"三　　塁　　打",null,null,null,null,null,null,null,null,null,null,null,null,"二　　　　塁　　　　打"]
[{"$f":"A20","v":0}]
[{"$f":"A21","v":0}]
[]
["第日目",null,null,null,null,null,"回戦",null,null,null,null,null,"第試合",null,null,null,null,null,null,null,null,"試合開始時間",null,null,null,null,null,null,null,"時",null,null,"分",null,"試合終了時間",null,null,null,null,null,null,null,"時",null,null,"分",null,"試合時間",null,null,null,null,null,"時間",null,null,null,"分"]
[null,null,null,null,null,null,1,null,2,null,3,null,4,null,5,null,6,null,7,null,8,null,9,null,"合　計",null,null,null,"投　　　　　　　　手",null,null,null,null,null,null,null,null,null,null,null,null,null,null,null,null,null,"捕　　　　　　　手"]
[null,null,null,null,null,null,null,null,null,null,null,null,null,null,null,null,null,null,null,null,null,null,null,null,{"$f":"SUM(G29:X29)","v":0}]
[null,null,null,null,null,null,null,null,null,null,null,null,null,null,null,null,null,null,null,null,null,null,null,null,{"$f":"SUM(G30:X30)","v":0}]
[]
[null,null,null,null,null,null,"本　　塁　　打",null,null,null,null,null,null,null,null,null,null,null,null,null,null,null,"三　　塁　　打",null,null,null,null,null,null,null,null,null,null,null,null,"二　　　　塁　　　　打"]
[{"$f":"A29","v":0}]
[{"$f":"A30","v":0}]
["第日目",null,null,null,null,null,"回戦",null,null,null,null,null,"第試合",null,null,null,null,null,null,null,null,"試合開始時間",null,null,null,null,null,null,null,"時",null,null,"分",null,"試合終了時間",null,null,null,null,null,null,null,"時",null,null,"分",null,"試合時間",null,null,null,null,null,"時間",null,null,null,"分"]
[null,null,null,null,null,null,1,null,2,null,3,null,4,null,5,null,6,null,7,null,8,null,9,null,"合　計",null,null,null,"投　　　　　　　　手",null,null,null,null,null,null,null,null,null,null,null,null,null,null,null,null,null,"捕　　　　　　　手"]
[null,null,null,null,null,null,null,null,null,null,null,null,null,null,null,null,null,null,null,null,null,null,null,null,{"$f":"SUM(G37:X37)","v":0}]
[null,null,null,null,null,null,null,null,null,null,null,null,null,null,null,null,null,null,null,null,null,null,null,null,{"$f":"SUM(G38:X38)","v":0}]
[]
[null,null,null,null,null,null,"本　　塁　　打",null,null,null,null,null,null,null,null,null,null,null,null,null,null,null,"三　　塁　　打",null,null,null,null,null,null,null,null,null,null,null,null,"二　　　　塁　　　　打"]
[{"$f":"A37","v":0}]
[{"$f":"A38","v":0}]
[]
["第日目",null,null,null,null,null,"回戦",null,null,null,null,null,"第試合",null,null,null,null,null,null,null,null,"試合開始時間",null,null,null,null,null,null,null,"時",null,null,"分",null,"試合終了時間",null,null,null,null,null,null,null,"時",null,null,"分",null,"試合時間",null,null,null,null,null,"時間",null,null,null,"分"]
[null,null,null,null,null,null,1,null,2,null,3,null,4,null,5,null,6,null,7,null,8,null,9,null,"合　計",null,null,null,"投　　　　　　　　手",null,null,null,null,null,null,null,null,null,null,null,null,null,null,null,null,null,"捕　　　　　　　手"]
[null,null,null,null,null,null,null,null,null,null,null,null,null,null,null,null,null,null,null,null,null,null,null,null,{"$f":"SUM(G46:X46)","v":0}]
[null,null,null,null,null,null,null,null,null,null,null,null,null,null,null,null,null,null,null,null,null,null,null,null,{"$f":"SUM(G47:X47)","v":0}]
[]
[null,null,null,null,null,null,"本　　塁　　打",null,null,null,null,null,null,null,null,null,null,null,null,null,null,null,"三　　塁　　打",null,null,null,null,null,null,null,null,null,null,null,null,"二　　　　塁　　　　打"]
[{"$f":"A46","v":0}]
[{"$f":"A47","v":0}]
[]
["第日目",null,null,null,null,null,"回戦",null,null,null,null,null,"第試合",null,null,null,null,null,null,null,null,"試合開始時間",null,null,null,null,null,null,null,"時",null,null,"分",null,"試合終了時間",null,null,null,null,null,null,null,"時",null,null,"分",null,"試合時間",null,null,null,null,null,"時間",null,null,null,"分"]
[null,null,null,null,null,null,1,null,2,null,3,null,4,null,5,null,6,null,7,null,8,null,9,null,"合　計",null,null,null,"投　　　　　　　　手",null,null,null,null,null,null,null,null,null,null,null,null,null,null,null,null,null,"捕　　　　　　　手"]
[null,null,null,null,null,null,null,null,null,null,null,null,null,null,null,null,null,null,null,null,null,null,null,null,{"$f":"SUM(G55:X55)","v":0}]
[null,null,null,null,null,null,null,null,null,null,null,null,null,null,null,null,null,null,null,null,null,null,null,null,{"$f":"SUM(G56:X56)","v":0}]
[]
[null,null,null,null,null,null,"本　　塁　　打",null,null,null,null,null,null,null,null,null,null,null,null,null,null,null,"三　　塁　　打",null,null,null,null,null,null,null,null,null,null,null,null,"二　　　　塁　　　　打"]
[{"$f":"A55","v":0}]
[{"$f":"A56","v":0}]
[]
["第日目",null,null,null,null,null,"回戦",null,null,null,null,null,"第試合",null,null,null,null,null,null,null,null,"試合開始時間",null,null,null,null,null,null,null,"時",null,null,"分",null,"試合終了時間",null,null,null,null,null,null,null,"時",null,null,"分",null,"試合時間",null,null,null,null,null,"時間",null,null,null,"分"]
[null,null,null,null,null,null,1,null,2,null,3,null,4,null,5,null,6,null,7,null,8,null,9,null,"合　計",null,null,null,"投　　　　　　　　手",null,null,null,null,null,null,null,null,null,null,null,null,null,null,null,null,null,"捕　　　　　　　手"]
[null,null,null,null,null,null,null,null,null,null,null,null,null,null,null,null,null,null,null,null,null,null,null,null,{"$f":"SUM(G64:X64)","v":0}]
[null,null,null,null,null,null,null,null,null,null,null,null,null,null,null,null,null,null,null,null,null,null,null,null,{"$f":"SUM(G65:X65)","v":0}]
[]
[null,null,null,null,null,null,"本　　塁　　打",null,null,null,null,null,null,null,null,null,null,null,null,null,null,null,"三　　塁　　打",null,null,null,null,null,null,null,null,null,null,null,null,"二　　　　塁　　　　打"]
[{"$f":"A64","v":0}]
[{"$f":"A65","v":0}]

{"sheet":"Ｄグラウンド","index":5,"n_rows":69,"n_cols":58,"rows_kept":69,"cut":false,"hidden":false,"merged":[[63,0,63,5],[63,6,63,7],[63,8,63,9],[63,10,63,11],[64,0,64,5],[64,6,64,7],[64,20,64,21],[68,35,68,58],[64,8,64,9],[64,10,64,11],[66,0,66,5],[66,6,66,21],[66,22,66,34],[66,35,66,58],[67,0,67,5],[67,6,67,21],[67,22,67,34],[64,22,64,23],[67,35,67,58],[64,28,64,45],[64,46,64,58],[64,12,64,13],[64,14,64,15],[64,16,64,17],[64,18,64,19],[64,24,64,26],[68,0,68,5],[68,6,68,21],[68,22,68,34],[62,46,62,58],[63,28,63,45],[63,46,63,58],[62,12,62,13],[62,14,62,15],[62,16,62,17],[63,22,63,23],[62,18,62,19],[62,20,62,21],[62,22,62,23],[63,24,63,26],[63,18,63,19],[63,20,63,21],[63,12,63,13],[63,14,63,15],[63,16,63,17],[62,0,62,5],[62,6,62,7],[62,8,62,9],[62,10,62,11],[62,24,62,26],[62,28,62,45],[61,34,61,39],[61,0,61,5],[61,21,61,26],[61,40,61,41],[61,43,61,44],[58,35,58,58],[59,22,59,34],[59,0,59,5],[59,6,59,21],[59,35,59,58],[61,30,61,31],[61,53,61,54],[61,55,61,56],[61,57,61,58],[61,47,61,50],[61,51,61,52],[61,27,61,28],[61,6,61,11],[61,12,61,17],[58,0,58,5],[58,6,58,21],[58,22,58,34],[55,22,55,23],[55,24,55,26],[55,28,55,45],[57,35,57,58],[57,0,57,5],[57,6,57,21],[55,0,55,5],[55,6,55,7],[55,8,55,9],[55,10,55,11],[55,20,55,21],[57,22,57,34],[55,46,55,58],[54,46,54,58],[55,12,55,13],[55,14,55,15],[55,16,55,17],[55,18,55,19],[52,57,52,58],[52,40,52,41],[52,43,52,44],[52,47,52,50],[52,51,52,52],[53,16,53,17],[53,46,53,58],[52,53,52,54],[54,24,54,26],[54,28,54,45],[53,18,53,19],[53,20,53,21],[53,22,53,23],[53,24,53,26],[53,28,53,45],[52,55,52,56],[52,34,52,39],[52,21,52,26],[52,27,52,28],[54,20,54,21],[54,22,54,23],[52,30,52,31],[54,16,54,17],[54,18,54,19],[52,0,52,5],[52,6,52,11],[52,12,52,17],[53,12,53,13],[53,14,53,15],[53,0,53,5],[53,6,53,7],[53,8,53,9],[53,10,53,11],[54,0,54,5],[54,6,54,7],[54,8,54,9],[54,10,54,11],[54,12,54,13],[54,14,54,15],[48,22,48,34],[48,35,48,58],[48,0,48,5],[48,6,48,21],[50,35,50,58],[49,0,49,5],[49,6,49,21],[49,22,49,34],[49,35,49,58],[50,22,50,34],[50,0,50,5],[50,6,50,21],[46,0,46,5],[46,6,46,7],[46,8,46,9],[46,10,46,11],[46,20,46,21],[46,12,46,13],[46,14,46,15],[46,16,46,17],[46,46,46,58],[46,28,46,45],[45,46,45,58],[43,34,43,39],[43,21,43,26],[43,27,43,28],[45,20,45,21],[45,22,45,23],[46,18,46,19],[45,0,45,5],[45,6,45,7],[45,8,45,9],[45,10,45,11],[45,12,45,13],[45,14,45,15],[45,16,45,17],[45,18,45,19],[45,24,45,26],[45,28,45,45],[44,18,44,19],[44,20,44,21],[44,22,44,23],[44,24,44,26],[44,28,44,45],[46,22,46,23],[46,24,46,26],[43,55,43,56],[43,57,43,58],[43,40,43,41],[43,43,43,44],[43,47,43,50],[43,51,43,52],[43,30,43,31],[44,46,44,58],[43,53,43,54],[44,16,44,17],[43,0,43,5],[43,6,43,11],[43,12,43,17],[44,12,44,13],[44,14,44,15],[44,0,44,5],[44,6,44,7],[44,8,44,9],[44,10,44,11],[39,22,39,34],[39,35,39,58],[39,0,39,5],[39,6,39,21],[41,35,41,58],[40,0,40,5],[40,6,40,21],[40,22,40,34],[40,35,40,58],[41,22,41,34],[41,0,41,5],[41,6,41,21],[36,0,36,5],[36,6,36,7],[36,8,36,9],[36,10,36,11],[36,12,36,13],[36,14,36,15],[36,16,36,17],[36,18,36,19],[37,22,37,23],[37,0,37,5],[37,6,37,7],[37,8,37,9],[37,10,37,11],[37,20,37,21],[37,12,37,13],[37,14,37,15],[37,16,37,17],[37,18,37,19],[34,55,34,56],[34,57,34,58],[34,40,34,41],[34,43,34,44],[34,47,34,50],[34,51,34,52],[37,24,37,26],[37,28,37,45],[37,46,37,58],[36,46,36,58],[34,34,34,39],[34,21,34,26],[34,27,34,28],[36,20,36,21],[36,22,36,23],[35,46,35,58],[34,53,34,54],[36,24,36,26],[36,28,36,45],[34,30,34,31],[33,35,33,58],[32,0,32,5],[32,6,32,21],[32,22,32,34],[32,35,32,58],[33,22,33,34],[33,0,33,5],[33,6,33,21],[31,0,31,5],[31,6,31,21],[31,35,31,58],[34,0,34,5],[34,6,34,11],[34,12,34,17],[35,12,35,13],[35,14,35,15],[35,0,35,5],[35,6,35,7],[35,8,35,9],[35,10,35,11],[35,16,35,17],[35,18,35,19],[35,20,35,21],[35,22,35,23],[35,24,35,26],[35,28,35,45],[31,22,31,34],[28,0,28,5],[28,6,28,7],[28,8,28,9],[28,10,28,11],[28,12,28,13],[28,14,28,15],[28,16,28,17],[28,18,28,19],[29,22,29,23],[29,16,29,17],[29,18,29,19],[29,0,29,5],[29,6,29,7],[29,8,29,9],[29,20,29,21],[29,10,29,11],[28,24,28,26],[28,28,28,45],[27,20,27,21],[27,22,27,23],[27,24,27,26],[27,28,27,45],[26,55,26,56],[29,12,29,13],[29,14,29,15],[29,24,29,26],[29,28,29,45],[29,46,29,58],[28,46,28,58],[26,34,26,39],[26,21,26,26],[26,27,26,28],[28,20,28,21],[28,22,28,23],[26,30,26,31],[26,57,26,58],[26,40,26,41],[26,43,26,44],[26,47,26,50],[26,51,26,52],[26,0,26,5],[26,6,26,11],[26,12,26,17],[27,46,27,58],[26,53,26,54],[27,16,27,17],[20,12,20,13],[20,14,20,15],[22,0,22,5],[22,6,22,21],[20,16,20,17],[20,18,20,19],[20,0,20,5],[20,6,20,7],[20,8,20,9],[27,12,27,13],[27,14,27,15],[27,0,27,5],[27,6,27,7],[27,8,27,9],[27,10,27,11],[24,35,24,58],[24,22,24,34],[27,18,27,19],[20,10,20,11],[24,0,24,5],[24,6,24,21],[22,22,22,34],[22,35,22,58],[23,0,23,5],[23,6,23,21],[23,22,23,34],[23,35,23,58],[20,20,20,21],[20,22,20,23],[20,24,20,26],[20,28,20,45],[20,46,20,58],[14,22,14,34],[17,30,17,31],[18,22,18,23],[18,24,18,26],[18,28,18,45],[19,24,19,26],[19,28,19,45],[13,35,13,58],[11,22,11,23],[11,24,11,26],[11,28,11,45],[11,46,11,58],[13,22,13,34],[19,46,19,58],[18,46,18,58],[17,53,17,54],[17,55,17,56],[17,57,17,58],[17,47,17,50],[17,51,17,52],[17,34,17,39],[19,16,19,17],[19,18,19,19],[18,20,18,21],[15,0,15,5],[15,6,15,21],[19,14,19,15],[19,20,19,21],[19,22,19,23],[17,43,17,44],[19,0,19,5],[19,6,19,7],[19,8,19,9],[19,10,19,11],[19,12,19,13],[14,0,14,5],[14,6,14,21],[13,6,13,21],[11,0,11,5],[11,6,11,7],[13,0,13,5],[18,16,18,17],[17,0,17,5],[17,6,17,11],[17,12,17,17],[18,12,18,13],[18,0,18,5],[11,16,11,17],[11,18,11,19],[11,10,11,11],[11,20,11,21],[11,12,11,13],[11,14,11,15],[10,6,10,7],[10,8,10,9],[10,10,10,11],[10,12,10,13],[17,21,17,26],[17,27,17,28],[17,40,17,41],[18,14,18,15],[10,20,10,21],[10,22,10,23],[18,6,18,7],[18,8,18,9],[18,10,18,11],[10,14,10,15],[10,16,10,17],[10,18,10,19],[18,18,18,19],[15,35,15,58],[15,22,15,34],[10,24,10,26],[10,28,10,45],[10,46,10,58],[14,35,14,58],[11,8,11,9],[10,0,10,5],[9,24,9,26],[9,16,9,17],[8,51,8,52],[9,0,9,5],[9,6,9,7],[9,8,9,9],[9,10,9,11],[8,40,8,41],[8,43,8,44],[8,47,8,50],[9,28,9,45],[8,0,8,5],[8,21,8,26],[8,6,8,11],[8,12,8,17],[9,12,9,13],[9,14,9,15],[9,18,9,19],[9,20,9,21],[9,22,9,23],[9,46,9,58],[8,53,8,54],[8,55,8,56],[8,57,8,58],[8,27,8,28],[8,30,8,31],[8,34,8,39],[6,47,6,48],[6,49,6,57],[6,7,6,11],[6,12,6,22],[6,23,6,24],[6,25,6,46],[0,0,1,58],[2,0,2,23],[4,10,4,14],[4,15,4,20],[4,21,4,25],[4,26,4,48],[3,49,3,58],[2,25,2,48],[2,49,2,58]]}
["公益財団法人　日本リトルリーグ野球協会御中"]
[]
["　　　お世話に成ります。　　試合記録を報告します。",null,null,null,null,null,null,null,null,null,null,null,null,null,null,null,null,null,null,null,null,null,null,null,null,"試合日　平成年月日()",null,null,null,null,null,null,null,null,null,null,null,null,null,null,null,null,null,null,null,null,null,null,null,"中南信ブロック事務局"]
[null,null,null,null,null,null,null,null,null,null,null,null,null,null,null,null,null,null,null,null,null,null,null,null,null,null,null,null,null,null,null,null,null,null,null,null,null,null,null,null,null,null,null,null,null,null,null,null,null,"柳原喜夫"]
[null,null,null,null,null,null,null,null,null,null,"大会名 ：",null,null,null,null,"年度",null,null,null,null,null,"第回"]
[]
[null,null,null,null,null,null,null,"開催地 ：",null,null,null,null,null,null,null,null,null,null,null,null,null,null,null,"市",null,null,null,null,null,null,null,null,null,null,null,null,null,null,null,null,null,null,null,null,null,null,null,"Ｄ",null,"グラウンド"]
[]
["第日目",null,null,null,null,null,"回戦",null,null,null,null,null,"第試合",null,null,null,null,null,null,null,null,"試合開始時間",null,null,null,null,null,null,null,"時",null,null,"分",null,"試合終了時間",null,null,null,null,null,null,null,"時",null,null,"分",null,"試合時間",null,null,null,null,null,"時間",null,null,null,"分"]
[null,null,null,null,null,null,1,null,2,null,3,null,4,null,5,null,6,null,7,null,8,null,9,null,"合　計",null,null,null,"投　　　　　　　　手",null,null,null,null,null,null,null,null,null,null,null,null,null,null,null,null,null,"捕　　　　　　　手"]
[null,null,null,null,null,null,null,null,null,null,null,null,null,null,null,null,null,null,null,null,null,null,null,null,{"$f":"SUM(G11:X11)","v":0}]
[null,null,null,null,null,null,null,null,null,null,null,null,null,null,null,null,null,null,null,null,null,null,null,null,{"$f":"SUM(G12:X12)","v":0}]
[]
[null,null,null,null,null,null,"本　　塁　　打",null,null,null,null,null,null,null,null,null,null,null,null,null,null,null,"三　　塁　　打",null,null,null,null,null,null,null,null,null,null,null,null,"二　　　　塁　　　　打"]
[{"$f":"A11","v":0}]
[{"$f":"A12","v":0}]
[]
["第日目",null,null,null,null,null,"回戦",null,null,null,null,null,"第試合",null,null,null,null,null,null,null,null,"試合開始時間",null,null,null,null,null,null,null,"時",null,null,"分",null,"試合終了時間",null,null,null,null,null,null,null,"時",null,null,"分",null,"試合時間",null,null,null,null,null,"時間",null,null,null,"分"]
[null,null,null,null,null,null,1,null,2,null,3,null,4,null,5,null,6,null,7,null,8,null,9,null,"合　計",null,null,null,"投　　　　　　　　手",null,null,null,null,null,null,null,null,null,null,null,null,null,null,null,null,null,"捕　　　　　　　手"]
[null,null,null,null,null,null,null,null,null,null,null,null,null,null,null,null,null,null,null,null,null,null,null,null,{"$f":"SUM(G20:X20)","v":0}]
[null,null,null,null,null,null,null,null,null,null,null,null,null,null,null,null,null,null,null,null,null,null,null,null,{"$f":"SUM(G21:X21)","v":0}]
[]
[null,null,null,null,null,null,"本　　塁　　打",null,null,null,null,null,null,null,null,null,null,null,null,null,null,null,"三　　塁　　打",null,null,null,null,null,null,null,null,null,null,null,null,"二　　　　塁　　　　打"]
[{"$f":"A20","v":0}]
[{"$f":"A21","v":0}]
[]
["第日目",null,null,null,null,null,"回戦",null,null,null,null,null,"第試合",null,null,null,null,null,null,null,null,"試合開始時間",null,null,null,null,null,null,null,"時",null,null,"分",null,"試合終了時間",null,null,null,null,null,null,null,"時",null,null,"分",null,"試合時間",null,null,null,null,null,"時間",null,null,null,"分"]
[null,null,null,null,null,null,1,null,2,null,3,null,4,null,5,null,6,null,7,null,8,null,9,null,"合　計",null,null,null,"投　　　　　　　　手",null,null,null,null,null,null,null,null,null,null,null,null,null,null,null,null,null,"捕　　　　　　　手"]
[null,null,null,null,null,null,null,null,null,null,null,null,null,null,null,null,null,null,null,null,null,null,null,null,{"$f":"SUM(G29:X29)","v":0}]
[null,null,null,null,null,null,null,null,null,null,null,null,null,null,null,null,null,null,null,null,null,null,null,null,{"$f":"SUM(G30:X30)","v":0}]
[]
[null,null,null,null,null,null,"本　　塁　　打",null,null,null,null,null,null,null,null,null,null,null,null,null,null,null,"三　　塁　　打",null,null,null,null,null,null,null,null,null,null,null,null,"二　　　　塁　　　　打"]
[{"$f":"A29","v":0}]
[{"$f":"A30","v":0}]
["第日目",null,null,null,null,null,"回戦",null,null,null,null,null,"第試合",null,null,null,null,null,null,null,null,"試合開始時間",null,null,null,null,null,null,null,"時",null,null,"分",null,"試合終了時間",null,null,null,null,null,null,null,"時",null,null,"分",null,"試合時間",null,null,null,null,null,"時間",null,null,null,"分"]
[null,null,null,null,null,null,1,null,2,null,3,null,4,null,5,null,6,null,7,null,8,null,9,null,"合　計",null,null,null,"投　　　　　　　　手",null,null,null,null,null,null,null,null,null,null,null,null,null,null,null,null,null,"捕　　　　　　　手"]
[null,null,null,null,null,null,null,null,null,null,null,null,null,null,null,null,null,null,null,null,null,null,null,null,{"$f":"SUM(G37:X37)","v":0}]
[null,null,null,null,null,null,null,null,null,null,null,null,null,null,null,null,null,null,null,null,null,null,null,null,{"$f":"SUM(G38:X38)","v":0}]
[]
[null,null,null,null,null,null,"本　　塁　　打",null,null,null,null,null,null,null,null,null,null,null,null,null,null,null,"三　　塁　　打",null,null,null,null,null,null,null,null,null,null,null,null,"二　　　　塁　　　　打"]
[{"$f":"A37","v":0}]
[{"$f":"A38","v":0}]
[]
["第日目",null,null,null,null,null,"回戦",null,null,null,null,null,"第試合",null,null,null,null,null,null,null,null,"試合開始時間",null,null,null,null,null,null,null,"時",null,null,"分",null,"試合終了時間",null,null,null,null,null,null,null,"時",null,null,"分",null,"試合時間",null,null,null,null,null,"時間",null,null,null,"分"]
[null,null,null,null,null,null,1,null,2,null,3,null,4,null,5,null,6,null,7,null,8,null,9,null,"合　計",null,null,null,"投　　　　　　　　手",null,null,null,null,null,null,null,null,null,null,null,null,null,null,null,null,null,"捕　　　　　　　手"]
[null,null,null,null,null,null,null,null,null,null,null,null,null,null,null,null,null,null,null,null,null,null,null,null,{"$f":"SUM(G46:X46)","v":0}]
[null,null,null,null,null,null,null,null,null,null,null,null,null,null,null,null,null,null,null,null,null,null,null,null,{"$f":"SUM(G47:X47)","v":0}]
[]
[null,null,null,null,null,null,"本　　塁　　打",null,null,null,null,null,null,null,null,null,null,null,null,null,null,null,"三　　塁　　打",null,null,null,null,null,null,null,null,null,null,null,null,"二　　　　塁　　　　打"]
[{"$f":"A46","v":0}]
[{"$f":"A47","v":0}]
[]
["第日目",null,null,null,null,null,"回戦",null,null,null,null,null,"第試合",null,null,null,null,null,null,null,null,"試合開始時間",null,null,null,null,null,null,null,"時",null,null,"分",null,"試合終了時間",null,null,null,null,null,null,null,"時",null,null,"分",null,"試合時間",null,null,null,null,null,"時間",null,null,null,"分"]
[null,null,null,null,null,null,1,null,2,null,3,null,4,null,5,null,6,null,7,null,8,null,9,null,"合　計",null,null,null,"投　　　　　　　　手",null,null,null,null,null,null,null,null,null,null,null,null,null,null,null,null,null,"捕　　　　　　　手"]
[null,null,null,null,null,null,null,null,null,null,null,null,null,null,null,null,null,null,null,null,null,null,null,null,{"$f":"SUM(G55:X55)","v":0}]
[null,null,null,null,null,null,null,null,null,null,null,null,null,null,null,null,null,null,null,null,null,null,null,null,{"$f":"SUM(G56:X56)","v":0}]
[]
[null,null,null,null,null,null,"本　　塁　　打",null,null,null,null,null,null,null,null,null,null,null,null,null,null,null,"三　　塁　　打",null,null,null,null,null,null,null,null,null,null,null,null,"二　　　　塁　　　　打"]
[{"$f":"A55","v":0}]
[{"$f":"A56","v":0}]
[]
["第日目",null,null,null,null,null,"回戦",null,null,null,null,null,"第試合",null,null,null,null,null,null,null,null,"試合開始時間",null,null,null,null,null,null,null,"時",null,null,"分",null,"試合終了時間",null,null,null,null,null,null,null,"時",null,null,"分",null,"試合時間",null,null,null,null,null,"時間",null,null,null,"分"]
[null,null,null,null,null,null,1,null,2,null,3,null,4,null,5,null,6,null,7,null,8,null,9,null,"合　計",null,null,null,"投　　　　　　　　手",null,null,null,null,null,null,null,null,null,null,null,null,null,null,null,null,null,"捕　　　　　　　手"]
[null,null,null,null,null,null,null,null,null,null,null,null,null,null,null,null,null,null,null,null,null,null,null,null,{"$f":"SUM(G64:X64)","v":0}]
[null,null,null,null,null,null,null,null,null,null,null,null,null,null,null,null,null,null,null,null,null,null,null,null,{"$f":"SUM(G65:X65)","v":0}]
[]
[null,null,null,null,null,null,"本　　塁　　打",null,null,null,null,null,null,null,null,null,null,null,null,null,null,null,"三　　塁　　打",null,null,null,null,null,null,null,null,null,null,null,null,"二　　　　塁　　　　打"]
[{"$f":"A64","v":0}]
[{"$f":"A65","v":0}]

{"sheet":"Sheet2","index":6,"n_rows":0,"n_cols":0,"rows_kept":0,"cut":false,"hidden":false,"merged":[]}

{"sheet":"Sheet3","index":7,"n_rows":0,"n_cols":0,"rows_kept":0,"cut":false,"hidden":false,"merged":[]}